BEGIN:VCALENDAR
VERSION:2.0
PRODID:-//Tango Kalender - ECPv6.15.20//NONSGML v1.0//EN
CALSCALE:GREGORIAN
METHOD:PUBLISH
X-WR-CALNAME:Tango Kalender
X-ORIGINAL-URL:https://tango-calendar.de
X-WR-CALDESC:Veranstaltungen für Tango Kalender
REFRESH-INTERVAL;VALUE=DURATION:PT1H
X-Robots-Tag:noindex
X-PUBLISHED-TTL:PT1H
BEGIN:VTIMEZONE
TZID:Europe/Berlin
BEGIN:DAYLIGHT
TZOFFSETFROM:+0100
TZOFFSETTO:+0200
TZNAME:CEST
DTSTART:20250330T010000
END:DAYLIGHT
BEGIN:STANDARD
TZOFFSETFROM:+0200
TZOFFSETTO:+0100
TZNAME:CET
DTSTART:20251026T010000
END:STANDARD
BEGIN:DAYLIGHT
TZOFFSETFROM:+0100
TZOFFSETTO:+0200
TZNAME:CEST
DTSTART:20260329T010000
END:DAYLIGHT
BEGIN:STANDARD
TZOFFSETFROM:+0200
TZOFFSETTO:+0100
TZNAME:CET
DTSTART:20261025T010000
END:STANDARD
BEGIN:DAYLIGHT
TZOFFSETFROM:+0100
TZOFFSETTO:+0200
TZNAME:CEST
DTSTART:20270328T010000
END:DAYLIGHT
BEGIN:STANDARD
TZOFFSETFROM:+0200
TZOFFSETTO:+0100
TZNAME:CET
DTSTART:20271031T010000
END:STANDARD
END:VTIMEZONE
BEGIN:VEVENT
DTSTART;TZID=Europe/Berlin:20260417T163000
DTEND;TZID=Europe/Berlin:20260419T140000
DTSTAMP:20260421T103914
CREATED:20260223T072459Z
LAST-MODIFIED:20260223T072459Z
UID:10021446-1776443400-1776607200@tango-calendar.de
SUMMARY:Tango Argentino & Contango – ein kreativer meditativer Herzenstanz
DESCRIPTION:An diesem Wochenende verbinden sich Tango Argentino und Contango\nim Parimal Gut Hübenthal zwischen Göttingen & Kassel \nTango Argentino ist ein kreativer meditativer Herzenstanz zu zweit – ein genussvolles\, sinnliches\, einfaches miteinander Gehen\, Stehen\, Drehen – in Herzverbindung ganz präsent sein im Hier & Jetzt.\nUnser Fokus ruht auf den Grundlagen\, Körperbewusstsein\, Aufrichtung\, Präsenz\, Gewahrsein sowie der Kommunikation im Paar und wir tauchen\, abseits von bestimmten Schrittfolgen\, in ein zur Gruppe stimmiges Tangothema tiefer ein.\nContango lässt spielerische Impulse der Contact-Improvisation und des freien Tanzes einfließen\, löst Grenzen des Paartanzes und der Rollen auf und bereichert auf diese Weise Kontakt- und Bewegungsmöglichkeiten und damit die Kreativität und Freiheit im Tanz. \nTauche in die Energien ein und lass dich durch Hingabe in einen intuitiven gemeinsamen Bewegungsfluss\, mit überraschenden Momenten\, führen\, wortlos kommunizieren und in Beziehung sein – Impuls geben\, empfangen\, antworten. \nWir tanzen auf Socken und in beiden Rollen.\nHerzlich Willkommen mit & ohne Vorkenntisse\, mit & ohne Partner*in. \nLeitung: Marion Sellmann\, Claudia Dara Fisseler und Bernd Basiro Matuschek. Infos zu uns findet ihr hier. \nAnmeldung & Fragen zum Workshop:\nE-Mail tango.dance2gether@gmail.com\nTel. 0172 5165113 (Marion)\nÜbernachtung & Verpflegung bitte über das Parimal Seminarhaus buchen. \nWeitere Infos sowie das Programm findet ihr  hier. \nDie Kursgebühr gemäß eigener Möglichkeiten & Selbsteinschätzung:\nermäßigter Frühbucherpreis bis 06.03.26 zwischen 120€ & 280€\nregulärer Preis zwischen 160€ & 280€\nzzgl. Ü/V im Seminarhaus Parimal Gut Hübenthal (Tel. 05542 5227 / info@parimal.de / Infos zu Preisen hier \nWir freuen uns auf Dich! =)
URL:https://tango-calendar.de/event/tango-argentino-contango-ein-kreativer-meditativer-herzenstanz-2/
LOCATION:Parimal Gut Hübenthal\, Hübenthal 1\, Witzenhausen\, Hessen\, 37218\, Germany
CATEGORIES:Workshop
ATTACH;FMTTYPE=image/png:https://tango-calendar.de/wp-content/uploads/2026/02/la-ronda.png
ORGANIZER;CN="Claudia Dara Fisseler":MAILTO:we.dance2gether@gmail.com
GEO:51.3924098;9.8248287
X-APPLE-STRUCTURED-LOCATION;VALUE=URI;X-ADDRESS=Parimal Gut Hübenthal Hübenthal 1 Witzenhausen Hessen 37218 Germany;X-APPLE-RADIUS=500;X-TITLE=Hübenthal 1:geo:9.8248287,51.3924098
END:VEVENT
BEGIN:VEVENT
DTSTART;TZID=Europe/Berlin:20260417T190000
DTEND;TZID=Europe/Berlin:20260417T220000
DTSTAMP:20260421T103914
CREATED:20251120T154353Z
LAST-MODIFIED:20251120T154353Z
UID:10019548-1776452400-1776463200@tango-calendar.de
SUMMARY:Hofheim: Tauche ein in die Leidenschaft und Eleganz des Tango Argentino.
DESCRIPTION:Hofheim \nTauche ein in die Leidenschaft und Eleganz des argentinischen Tangos. \nUnsere Kurse\, geleitet von den Lehrern Marianna und Daniel\, begleiten dich von den ersten Schritten bis hin zu den anspruchsvollsten Bewegungen – immer angepasst an dein Tempo und Niveau. Genieße eine warme und professionelle Atmosphäre\, in der Technik\, Musik und Verbindung zu einem einzigartigen Erlebnis verschmelzen. \nFreitag (ungerade)19:00–20:00 Anfänger20:00–21:00 Technik21:00–22:00 Mittelstufe & Fortgeschrittene \nOrt:\nSchönbornsaal\nBurgstrasse 28\, 65719 Hofheim am Taunus \n📞 +49 176 3421 2366📧 oscar.gimenez@blancoynegro.deℹ️ Mehr Informationen und Anmeldung: blancoynegrotango.de/hofheim/ \nHier findest du alle Details zu den Locations und Zeiten in Hofheim und die Anmeldung. Melde dich an und teste uns. Wir freuen uns auf dich!! \nDas findest du nur bei uns: Wir unterstützen dein Training zu Hause mit professionellen Videos. Hier kannst du sie sehen. Sie werden wöchentlich aktualisiert. \nHier kannst du Marianna und Daniel auf unserer Valentinsmilonga tanzen sehen. Sie gehören zu den besten Tangotänzer der Region und sind weltweit bekannt. Auf der Weltmeisterschaft 2024 in Buenos Aires kamen sie ins Halbfinale. \nHier kannst du dich registrieren\, wenn du einen Tanzpartner/Tanzpartnerin suchst. \nLasst uns die Magie des Tangos weiter gemeinsam erleben!
URL:https://tango-calendar.de/event/hofheim-tauche-ein-in-die-leidenschaft-und-eleganz-des-tango-argentino-2/2026-04-17/
LOCATION:Blanco y negro tango hofheim\, Schönbornsaal im Kellereigebäude. Burgstrasse 28\, 65719 Hofheim am Taunus\, Schönbornsaal im Kellereigebäude. Burgstrasse 28\, 65719 Hofheim am Taunus\, Germany
CATEGORIES:Kurse,Traditional
ATTACH;FMTTYPE=image/png:https://tango-calendar.de/wp-content/uploads/2025/11/Hofheim.png
ORGANIZER;CN="Blanco y Negro Tango":MAILTO:oscar@blancoynegro.de
GEO:49.6416422;8.36214
X-APPLE-STRUCTURED-LOCATION;VALUE=URI;X-ADDRESS=Blanco y negro tango hofheim Schönbornsaal im Kellereigebäude. Burgstrasse 28 65719 Hofheim am Taunus Schönbornsaal im Kellereigebäude. Burgstrasse 28 65719 Hofheim am Taunus Germany;X-APPLE-RADIUS=500;X-TITLE=Schönbornsaal im Kellereigebäude. Burgstrasse 28\, 65719 Hofheim am Taunus:geo:8.36214,49.6416422
END:VEVENT
BEGIN:VEVENT
DTSTART;TZID=Europe/Berlin:20260417T193000
DTEND;TZID=Europe/Berlin:20260419T173000
DTSTAMP:20260421T103914
CREATED:20251120T154428Z
LAST-MODIFIED:20260331T155347Z
UID:10019587-1776454200-1776619800@tango-calendar.de
SUMMARY:ContacTango-Workshop-Weekend mit Leilani Weiss & Miguel Strebel
DESCRIPTION:ContacTango \nArgentinischer Tango und Contact Improvisation teilen trotz ihrer unterschiedlichen Bewegungsqualitäten die Improvisation als zentrales Element. Im ContacTango werden Gemeinsamkeiten und Unterschiede beider Tanzformen in einem kreativen Prozess verbunden\, so dass Neues entstehen kann. \nAusgehend von Musikalität\, Körperachse und Gehen erforschen wir Grundlagen des Tangos und verknüpfen sie mit Qualitäten der Contact Improvisation: Körperstruktur\, Schwerkraft und dem eigenen Zentrum jeder Person. Daraus entstehen neue Bewegungsmöglichkeiten\, die beide Tanzformen bereichern können. \nSo entwickelt sich ein Tanz\, der die poetische Bildsprache des Tango Argentino mit den freien Bewegungsmustern der Contact Improvisation verbindet und Begegnungen voller Überraschung und Poesie ermöglicht. \nLeitung \nLeilani Weiss (Chile/Spanien) unterrichtet seit vielen Jahren Contact Improvisation und Tango Argentino. Sie erforscht und entwickelt die technischen Fundamente des ContacTango\, organisiert die „LunatiContact“-Events in Italien und ist Mitgründerin sowie künstlerische Direktorin der Compagnie „Central de Movimiento“. Sie hat in Lateinamerika\, Nordamerika und in vielen Ländern Europas unterrichtet und aufgeführt. \nUnterstützt wird sie von Miguel Strebel\, der ihre Workshops seit vielen Jahren als engagierter Co-Trainer begleitet. \nLogistik\, Anmeldung\, Fragen \nZEITEN:\nFr. 17.04.2026   19:30 – 22:00 Uhr\nSa.18.04.2026   10:00 – 17:30 Uhr\nSo.19.04.2026   10:00 – 17:30 Uhr \nRESERVIERUNG – Euren Workshopplatz könnt Ihr direkt über die tabeko-Website reservieren. \nFRAGEN – Nutzt die Kontaktmöglichkeiten auf der tabeko-Website\, wir helfen gerne. \ntabeko e.V. \ntabeko ist die Plattform der regionalen Contact Improvisation Community. Bei unseren Contactango-Events treffen sich Contacter\, Tangueros und Tanzbegeisterte\, um Musik\, Bewegung und Begegnung in einem achtsamen Umfeld gemeinsam zu erforschen. \nFür alle\, die nach dem Workshop noch Energie zum Weitertanzen haben gibt’s vor Ort aktuelle Vorschläge für fast jeden Geschmack. \nUnser Tanzraum ist groß\, licht und sehr gut mit öffentlichen Verkehrsmitteln\, Auto und Fahrrad erreichbar.
URL:https://tango-calendar.de/event/contactango-workshop-weekend-mit-leilani-weiss-miguel-strebel/
LOCATION:Saalbau Haus Nidda\, Harheimer Weg 18-22\, Frankfurt/Main (Bonames)\, 60437\, Germany
CATEGORIES:Neo/Nuevo,Non-Tango,Workshop
ATTACH;FMTTYPE=image/jpeg:https://tango-calendar.de/wp-content/uploads/2025/11/Tbk_contango-1038x576-2026-04-17.jpg
ORGANIZER;CN="tabeko eV":MAILTO:contact@tabeko.de
GEO:50.1827874;8.6686309
X-APPLE-STRUCTURED-LOCATION;VALUE=URI;X-ADDRESS=Saalbau Haus Nidda Harheimer Weg 18-22 Frankfurt/Main (Bonames) 60437 Germany;X-APPLE-RADIUS=500;X-TITLE=Harheimer Weg 18-22:geo:8.6686309,50.1827874
END:VEVENT
BEGIN:VEVENT
DTSTART;TZID=Europe/Berlin:20260417T203000
DTEND;TZID=Europe/Berlin:20260418T003000
DTSTAMP:20260421T103914
CREATED:20230305T183024Z
LAST-MODIFIED:20231115T143731Z
UID:10006686-1776457800-1776472200@tango-calendar.de
SUMMARY:El Pasito-Practilonga
DESCRIPTION:Wir erwarten euch wie immer am dritten Freitag im Monat zu unserer Practilonga “El Pasito” von 20:30 Uhr bis 00:30 Uhr\, um gemeinsam zu üben. \nDas El Pasito findet im Studio 2 von Son Latino\, Gablonzerstr. 9 in Karlsruhe statt. \nUnd wie läuft das ab? Ihr kommt vorbei und könnt am Eingang vorschlagen\, an welcher Figur ihr arbeiten möchten. (Voleos\, Ganchos\, Giros\, Barridas\, Sacadas\, etc.)\nGegen 21:30 Uhr losen wir eure Wünsche aus und stellen aus dem gezogenen Ergebnis eine Bewegung zusammen.\nUnd wie immer … nach dem Üben trinken wir zum Abschluss der Party ein leckeres Glas Prosecco zusammen.\nWorauf wartest du? Sei dabei! \nEl Pasito kostet 15 EUR/Person.
URL:https://tango-calendar.de/event/el-pasito-practilonga-2/2026-04-17/
LOCATION:Son latino Tanzschule\, Gablonzerstr. 9 - Studio 2\, Karlsruhe\, Baden-Württemberg\, 76185
CATEGORIES:Traditional
ATTACH;FMTTYPE=image/jpeg:https://tango-calendar.de/wp-content/uploads/2023/03/Logos-El-Pasito-14.jpg
ORGANIZER;CN="AbrazTango":MAILTO:info@abraztango.com
GEO:49.0237396;8.3527194
X-APPLE-STRUCTURED-LOCATION;VALUE=URI;X-ADDRESS=Son latino Tanzschule Gablonzerstr. 9 - Studio 2 Karlsruhe Baden-Württemberg 76185;X-APPLE-RADIUS=500;X-TITLE=Gablonzerstr. 9 - Studio 2:geo:8.3527194,49.0237396
END:VEVENT
BEGIN:VEVENT
DTSTART;TZID=Europe/Berlin:20260417T210000
DTEND;TZID=Europe/Berlin:20260418T010000
DTSTAMP:20260421T103914
CREATED:20240811T162715Z
LAST-MODIFIED:20260219T163728Z
UID:10017766-1776459600-1776474000@tango-calendar.de
SUMMARY:TangoBar plus +  desde 1998
DESCRIPTION:“TangoBar” die Milonga seit 1998\nan jedem 3. Freitag im Monat \nDie nächsten Termine und DJs:\nDie nächsten Termine und DJs:\n*** 20. Februar – Lozita*** 20. März – DJane Isabelle*** 17. April – DJ Julio*** 15. Mai – ShiPik*** 19. Juni – Axel GreweJuli + August – Sommerpause*** 18. September – Werner Giove \nTangoabend auf zwei Tanzflächen/ zwei DJ`s \nIm Salon: traditionell mit Tandas & Cortinas\nIm Labor (kleiner Saal): Elektro-Tango\, Tango-Nuevo & Non-Tangos \nBitte keine eigenen Getränke mitbringen\, wir finanzieren diese Veranstaltungen auch durch den Getränkeverkauf ! \nMilonga 21:00 bis 1:00 Uhr  \nEintritt 10\,- EUR inklusive kaltem Buffett \nMitglieder unseres Vereins und des Tangoclubs zahlen keinen Eintritt \nNoGo’s: Auf und neben der Tanzfläche unterrichten oder andere kritisieren\, unfreundliche Körbe verteilen\, missionieren.\nErwünscht: Komplimente verteilen\, good vibes verbreiten\, Anfänger und neue Menschen Willkommen heißen\, den Abend wie ein Fest genießen. Wir freuen uns auf eine schöne Milonga mit Gästen aus Nah und Fern.
URL:https://tango-calendar.de/event/tangobar-plus-mehr-als-25-jahre-milonga-in-hoechst/2026-04-17/
LOCATION:die Tanzschule\, Bolongarostraße 113\, Frankfurt am Main\, Deutschland\, 65929\, Deutschland
CATEGORIES:Milonga,Neo/Nuevo,Non-Tango,Traditional
ATTACH;FMTTYPE=image/jpeg:https://tango-calendar.de/wp-content/uploads/2024/08/TangoBar.jpg
ORGANIZER;CN="Carsten Weber &amp%3B Anja Hoepfner%2C die Tanzschule":MAILTO:info@die-tanzschule.de
GEO:50.1006357;8.5510597
X-APPLE-STRUCTURED-LOCATION;VALUE=URI;X-ADDRESS=die Tanzschule Bolongarostraße 113 Frankfurt am Main Deutschland 65929 Deutschland;X-APPLE-RADIUS=500;X-TITLE=Bolongarostraße 113:geo:8.5510597,50.1006357
END:VEVENT
END:VCALENDAR