BEGIN:VCALENDAR
VERSION:2.0
PRODID:-//Tango Kalender - ECPv6.15.20//NONSGML v1.0//EN
CALSCALE:GREGORIAN
METHOD:PUBLISH
X-WR-CALNAME:Tango Kalender
X-ORIGINAL-URL:https://tango-calendar.de
X-WR-CALDESC:Veranstaltungen für Tango Kalender
REFRESH-INTERVAL;VALUE=DURATION:PT1H
X-Robots-Tag:noindex
X-PUBLISHED-TTL:PT1H
BEGIN:VTIMEZONE
TZID:Europe/Berlin
BEGIN:DAYLIGHT
TZOFFSETFROM:+0100
TZOFFSETTO:+0200
TZNAME:CEST
DTSTART:20250330T010000
END:DAYLIGHT
BEGIN:STANDARD
TZOFFSETFROM:+0200
TZOFFSETTO:+0100
TZNAME:CET
DTSTART:20251026T010000
END:STANDARD
BEGIN:DAYLIGHT
TZOFFSETFROM:+0100
TZOFFSETTO:+0200
TZNAME:CEST
DTSTART:20260329T010000
END:DAYLIGHT
BEGIN:STANDARD
TZOFFSETFROM:+0200
TZOFFSETTO:+0100
TZNAME:CET
DTSTART:20261025T010000
END:STANDARD
BEGIN:DAYLIGHT
TZOFFSETFROM:+0100
TZOFFSETTO:+0200
TZNAME:CEST
DTSTART:20270328T010000
END:DAYLIGHT
BEGIN:STANDARD
TZOFFSETFROM:+0200
TZOFFSETTO:+0100
TZNAME:CET
DTSTART:20271031T010000
END:STANDARD
END:VTIMEZONE
BEGIN:VEVENT
DTSTART;VALUE=DATE:20260423
DTEND;VALUE=DATE:20260428
DTSTAMP:20260426T025044
CREATED:20260318T090359Z
LAST-MODIFIED:20260325T221032Z
UID:10021546-1776909600-1777255199@tango-calendar.de
SUMMARY:La Maravilla de Abril
DESCRIPTION:Tango Argentino – Festival by Tangowunderland\n\n\n\nDo 23.04. bis So 26.04. 2026\n\n\n\n\n\nMeine lieben Besucher des Tangowunderlandes! Danke für das phantastische Wochenende im Herbst! Ich möchte gerne mehr davon. Deshalb lade ich Euch ein\, zum \nMaravilla de Abril! \nLasst uns gemeinsam ein phantastisches Frühlings – Tangowochenende genießen. \n\nDonnerstag Abend: Pre-Milonga mit TDJ Jörn Guth\nFreitag Abend: Milonga mit TDJane Mara aus Dresden – mit einem Mix aus etwas neo und mehr traditionell\nSamstag Abend: Grand Milonga mit Otros Aires Cuarteto Live – erstmals mit dem Neuen “Album Tango Mundi” und TDJ Gabriel Sodini\nSonntag nach dem auschecken: Milonga mit Jonas Maria Joma \n\nWorkshops: Freitag bis Sonntag\, Einsteiger\, Vals\, Milonga – Werkstatt mit Joaquin Martinez (BA\, Madrid\, Paris) \nJoaquin ist noch nicht so bekannt in Deutschland – bisher exclusiv im Tangowunderland. Die Workshops mit ihm machen unglaublich Spaß und er ist Tanguero “vom Scheitel bis zur Fußsohle” Mehr Infos gibt es auf der Webseite \nNEU: Seminario del Tango Schwerpunkt Musik\, die Entwicklung der Orchester und die Epochen des Tango\nWorkshop Tango DJ  \nIch freu mich riesig auf Euch!!
URL:https://tango-calendar.de/event/la-milonga-de-abril/
LOCATION:Tangowunderland Plauen\, Haus Vogtland\, Plauen\, Sachsen\, 08523\, Germany
CATEGORIES:Festival,GRAN-Milonga,Live Musik,Neo/Nuevo,Traditional,Workshop
ATTACH;FMTTYPE=image/jpeg:https://tango-calendar.de/wp-content/uploads/2026/03/Plakat-Maravilla-scaled.jpg
ORGANIZER;CN="Tangowunderland":MAILTO:alice@tangowunderland.de
GEO:50.5453757;12.0838522
X-APPLE-STRUCTURED-LOCATION;VALUE=URI;X-ADDRESS=Tangowunderland Plauen Haus Vogtland Plauen Sachsen 08523 Germany;X-APPLE-RADIUS=500;X-TITLE=Haus Vogtland:geo:12.0838522,50.5453757
END:VEVENT
BEGIN:VEVENT
DTSTART;TZID=Europe/Berlin:20260426T160000
DTEND;TZID=Europe/Berlin:20260426T203000
DTSTAMP:20260426T025044
CREATED:20251025T100606Z
LAST-MODIFIED:20251025T133734Z
UID:10019285-1777219200-1777235400@tango-calendar.de
SUMMARY:La Cuerda GRAN Milonga - 2. und 4. Sonntag - Exilonga in der Conexión
DESCRIPTION:Wie es scheint\, wird es noch bis 2026 dauern\, bis wir die reguläre La Cuerda — Gran Milonga wieder in der Seilerei stattfinden lassen können. \nBis auf weiteres findet die EXILONGA jeweils am 2. und 4. Sonntag in der Tanzschule Conexión statt. \n\nAnfahrt mit dem ÖPNV: U6 & U7 oder M34 & N7 nehmen bis Haltestelle Fischstein. Nach Süden hin die Straße überqueren — der Eingang befindet sich auf der Rückseite des gelben Mehrzweckgebäudes „Am Industriehof 7“.\nParkpätze fürs Auto: IXI-Getränkemarkt direkt gegenüber der Tanzschule oder Brentanobad.\n\nAktuelle Informationen auf unserer Homepage la-cuerda.de \nIt seems it will take until 2026 before we can host the regular La Cuerda — Gran Milonga at the Seilerei again. \nUntil further notice the EXILONGA will take place on the 2nd and 4th Sundays at the Conexión dance-school. \n\nDirections by public transport: Take U6 & U7 or M34 & N7 to Fischstein stop. Cross the street to the south – the entrance is on the back of the yellow multi-purpose building „Am Industriehof 7“.\nParking spaces for cars: IXI-Getränkemarkt directly opposite the dance school or Brentanobad.\n\nActual information about our events at our homepage la-cuerda.de
URL:https://tango-calendar.de/event/la-cuerda-gran-milonga-2-und-4-sonntag-exilonga-in-der-conexion/2026-04-26/
LOCATION:Salsa-Tanzschule Conexion\, Am Industriehof 7\, Frankfurt am Main\, Hessen\, 60487\, Germany
CATEGORIES:GRAN-Milonga,Milonga,Traditional
ATTACH;FMTTYPE=image/png:https://tango-calendar.de/wp-content/uploads/2025/10/cropped-Logo-CI-2-1.png
GEO:50.128966;8.6241751
X-APPLE-STRUCTURED-LOCATION;VALUE=URI;X-ADDRESS=Salsa-Tanzschule Conexion Am Industriehof 7 Frankfurt am Main Hessen 60487 Germany;X-APPLE-RADIUS=500;X-TITLE=Am Industriehof 7:geo:8.6241751,50.128966
END:VEVENT
BEGIN:VEVENT
DTSTART;TZID=Europe/Berlin:20260426T163000
DTEND;TZID=Europe/Berlin:20260426T203000
DTSTAMP:20260426T025044
CREATED:20240731T092249Z
LAST-MODIFIED:20260330T125905Z
UID:10011038-1777221000-1777235400@tango-calendar.de
SUMMARY:Milonga Tango Armónico
DESCRIPTION:Liebe Tangueras & Tangueros\, \nFast immer am 4. Sonntag\, im Monat veranstalten wir die Milonga Tango Armónico: Tangos- und Non-Tangos in einer harmonischen Zusammenstellung und entspannter Atmosphäre. \nHier die Details: \nZeit: 16:30-20:30 Uhr \nTJ: Matina \nVJ: El Librillo \nOrt: Agora -Haus\, Erbacher Straße 89 · 64287 Darmstadt\, im Seminarraum im UG (Eingang auf der Haus-Rückseite). Nähe Rosenhöhe. \nWir tanzen rücksichtsvoll in der Ronda. \nWir achten gemeinsam darauf\, dass es allen gut geht und heißen Gäste willkommen. \nBei uns gilt: Frauen und Männer fordern auf – mit oder ohne Cabeceo. \nAchtung: Immer im November findet die Armonico “aus Gründen” als private Veranstaltung statt. Wer persönlich zu unserer privaten Milonga im November eingeladen werden möchte\, sollte unseren Newsletter abonieren.  \n 
URL:https://tango-calendar.de/event/milonga-tango-armonico-in-darmstadt-2/2026-04-26/
LOCATION:Agora\, Erbacher Straße 89\, Darmstadt\,\, 64287\, Deutschland
CATEGORIES:Milonga
ATTACH;FMTTYPE=image/png:https://tango-calendar.de/wp-content/uploads/2024/07/2024_Tango_Armonico_Darmstadt_allgemein_mit_Adresse.png
GEO:49.8740563;8.6750466
X-APPLE-STRUCTURED-LOCATION;VALUE=URI;X-ADDRESS=Agora Erbacher Straße 89 Darmstadt 64287 Deutschland;X-APPLE-RADIUS=500;X-TITLE=Erbacher Straße 89:geo:8.6750466,49.8740563
END:VEVENT
BEGIN:VEVENT
DTSTART;TZID=Europe/Berlin:20260426T170000
DTEND;TZID=Europe/Berlin:20260426T190000
DTSTAMP:20260426T025044
CREATED:20260218T180055Z
LAST-MODIFIED:20260331T154614Z
UID:10021419-1777222800-1777230000@tango-calendar.de
SUMMARY:ContacTango Jamilonga mit Intro @ tabeko Frankfurt
DESCRIPTION:Alle Levels. Intro/Warmup & dann tanzen … \n17 Uhr Jamilonga\, anschließend um 19 Uhr Contact-Jam\nim Haus der Jugend / Deutschherrnufer / Frankfurt am Main \nNächste Termine wenn nicht anders angekündigt – bitte schaut auf der tabeko-Website – meist am letzten Sonntag im Monat\, jeweils um 17 Uhr. \nMehr Details\, aktuelle Termine\, Mini- und Maxiworkshops etc. findet ihr auf der tabeko-Website!\nDort könnt Ihr euch auch für den Newsletter mit den aktuellen Terminen registrieren. \nContacTango \nArgentinischer Tango und Contact Improvisation teilen trotz ihrer unterschiedlichen Bewegungsqualitäten die Improvisation als zentrales Element. Im ContacTango werden Gemeinsamkeiten und Unterschiede beider Tanzformen in einem kreativen Prozess verbunden\, so dass Neues entstehen kann. \nAusgehend von Musikalität\, Körperachse und Gehen erforschen wir Grundlagen des Tangos und verknüpfen sie mit Qualitäten der Contact Improvisation: Körperstruktur\, Schwerkraft und dem eigenen Zentrum jeder Person. Daraus entstehen neue Bewegungsmöglichkeiten\, die beide Tanzformen bereichern können. \nSo entwickelt sich ein Tanz\, der die poetische Bildsprache des Tango Argentino mit den freien Bewegungsmustern der Contact Improvisation verbindet und Begegnungen voller Überraschung und Poesie ermöglicht. \ntabeko e.V. \ntabeko ist die Plattform der regionalen Contact Improvisation Community. Bei unseren Contactango-Events treffen sich Contacter\, Tangueros und Tanzbegeisterte\, um Musik\, Bewegung und Begegnung in einem achtsamen Umfeld gemeinsam zu erforschen. 
URL:https://tango-calendar.de/event/contactango-jamilonga-mit-intro-tabeko-frankfurt-5/
LOCATION:Haus der Jugend – Frankfurt Main\, Deutschherrnufer 12\, Frankfurt am Main / Sachsenhausen\, 60594\, Germany
CATEGORIES:Milonga,Neo/Nuevo,Non-Tango
ORGANIZER;CN="tabeko eV":MAILTO:contact@tabeko.de
GEO:50.1070341;8.6893984
X-APPLE-STRUCTURED-LOCATION;VALUE=URI;X-ADDRESS=Haus der Jugend – Frankfurt Main Deutschherrnufer 12 Frankfurt am Main / Sachsenhausen 60594 Germany;X-APPLE-RADIUS=500;X-TITLE=Deutschherrnufer 12:geo:8.6893984,50.1070341
END:VEVENT
END:VCALENDAR