BEGIN:VCALENDAR
VERSION:2.0
PRODID:-//Tango Kalender - ECPv6.15.20//NONSGML v1.0//EN
CALSCALE:GREGORIAN
METHOD:PUBLISH
X-WR-CALNAME:Tango Kalender
X-ORIGINAL-URL:https://tango-calendar.de
X-WR-CALDESC:Veranstaltungen für Tango Kalender
REFRESH-INTERVAL;VALUE=DURATION:PT1H
X-Robots-Tag:noindex
X-PUBLISHED-TTL:PT1H
BEGIN:VTIMEZONE
TZID:Europe/Berlin
BEGIN:DAYLIGHT
TZOFFSETFROM:+0100
TZOFFSETTO:+0200
TZNAME:CEST
DTSTART:20250330T010000
END:DAYLIGHT
BEGIN:STANDARD
TZOFFSETFROM:+0200
TZOFFSETTO:+0100
TZNAME:CET
DTSTART:20251026T010000
END:STANDARD
BEGIN:DAYLIGHT
TZOFFSETFROM:+0100
TZOFFSETTO:+0200
TZNAME:CEST
DTSTART:20260329T010000
END:DAYLIGHT
BEGIN:STANDARD
TZOFFSETFROM:+0200
TZOFFSETTO:+0100
TZNAME:CET
DTSTART:20261025T010000
END:STANDARD
BEGIN:DAYLIGHT
TZOFFSETFROM:+0100
TZOFFSETTO:+0200
TZNAME:CEST
DTSTART:20270328T010000
END:DAYLIGHT
BEGIN:STANDARD
TZOFFSETFROM:+0200
TZOFFSETTO:+0100
TZNAME:CET
DTSTART:20271031T010000
END:STANDARD
END:VTIMEZONE
BEGIN:VEVENT
DTSTART;TZID=Europe/Berlin:20260411T180000
DTEND;TZID=Europe/Berlin:20260411T193000
DTSTAMP:20260421T164245
CREATED:20260128T131715Z
LAST-MODIFIED:20260327T235625Z
UID:10021238-1775930400-1775935800@tango-calendar.de
SUMMARY:Tango Weekend with PAULA RUBIN
DESCRIPTION:(English below) \nPAULA RUBIN aus Buenos Aires hat auch auf dieser Europatour wieder einen Stopp in Wiesbaden eingeplant!  \nAus ihrer über 20 jährigen Tangoerfahrung hat Paula viel Information mit euch zu teilen. Sie ist außerdem spezialisiert in der “Hypopressives”Technik \, welche die Körpermitte\, Körperhaltung und Atmung trainiert und eine gesunde Technik fördert.  \nUm mehr über Paula Rubin zu erfahren öffne diesen Link: griceltangoargentino.com \nPaula ist vom 10.4.-12.4. in Wiesbaden und steht auch für Privatstunden zur Verfügung.  \nWorkshop Stundenplan: \nWS 1: Samstag 18-19.30 Ladies Technique: Paula’s Lieblingsverzierungen \nWS 2: Sonntag 15.30-17.00 Die Umarmung: Finde die Verbindung zu deiner eigenen Mitte und zu deinem/r Partner/in \nWS 3: Sonntag 17.00-18.30 Sacadas und Entradas im Giro und in Ochos (WS2 empfohlen vor WS3) \nFür Anmeldung bitte eine Email schicken an: saritaapel@gmail.com \nSonntag 11 Uhr: Hypopressives Workshop – sehr zu empfehlen in Verbindung mit den anderen Workshops! Info und Anmeldung hierfür bei Tango NJ: tangonj.de \nPreisliste Workshops: \n1 WS :25€ \n2WS :40€ \n3WS : 55€ \n  \nENGLISH :  \nPAULA RUBIN from Buenos Aires has once again planned a stop in Wiesbaden on this European tour! \nWith over 20 years of tango experience\, Paula has a lot of knowledge to share with you. She also specializes in the Hypopressives technique\, which trains the core\, posture\, and breathing\, and promotes healthy movement technique. \nTo know more about Paula Rubin click here: https://griceltangoargentino.com/about-the-artists \nPaula will be in Wiesbaden from April 10–12 and is also available for private lessons. \nWorkshop Schedule: \nWS 1: Saturday 6:00–7:30 PM\nLadies’ Technique: Paula’s Favorite Embellishments \nWS 2: Sunday 3:30–5:00 PM\nThe Embrace: Find the connection to your own center and to your partner \nWS 3: Sunday 5:00–6:30 PM\nSacadas and Entradas in Giros and Ochos\n(WS 2 recommended before WS 3) \nTo register please send an email to saritaapel@gmail.com \nSunday 11am:\nHypopressives Workshops – highly recommended in combination with the other workshops!\nFor Hypopressives information and registration via Tango NJ: tangonj.de \nPrice list workshops: \n1 WS :25€ \n2WS :40€ \n3WS : 55€
URL:https://tango-calendar.de/event/tango-weekend-with-paula-rubin/2026-04-11/
LOCATION:Tango NJ Wiesbaden\, Walluferstraße 1\, Wiesbaden\, Hessen\, 65197\, Germany
CATEGORIES:Kurse,Workshop
ATTACH;FMTTYPE=image/jpeg:https://tango-calendar.de/wp-content/uploads/2026/01/Bazaart_A81F9BF4-8F73-4966-8BE2-F92B93212C5B.jpeg
ORGANIZER;CN="Tango Mariano &amp%3B Astria":MAILTO:saritaapel@gmail.com
GEO:50.0843808;8.2080971
X-APPLE-STRUCTURED-LOCATION;VALUE=URI;X-ADDRESS=Tango NJ Wiesbaden Walluferstraße 1 Wiesbaden Hessen 65197 Germany;X-APPLE-RADIUS=500;X-TITLE=Walluferstraße 1:geo:8.2080971,50.0843808
END:VEVENT
BEGIN:VEVENT
DTSTART;TZID=Europe/Berlin:20260412T153000
DTEND;TZID=Europe/Berlin:20260412T183000
DTSTAMP:20260421T164245
CREATED:20260128T131715Z
LAST-MODIFIED:20260327T235625Z
UID:10021599-1776007800-1776018600@tango-calendar.de
SUMMARY:Tango Weekend with PAULA RUBIN
DESCRIPTION:(English below) \nPAULA RUBIN aus Buenos Aires hat auch auf dieser Europatour wieder einen Stopp in Wiesbaden eingeplant!  \nAus ihrer über 20 jährigen Tangoerfahrung hat Paula viel Information mit euch zu teilen. Sie ist außerdem spezialisiert in der “Hypopressives”Technik \, welche die Körpermitte\, Körperhaltung und Atmung trainiert und eine gesunde Technik fördert.  \nUm mehr über Paula Rubin zu erfahren öffne diesen Link: griceltangoargentino.com \nPaula ist vom 10.4.-12.4. in Wiesbaden und steht auch für Privatstunden zur Verfügung.  \nWorkshop Stundenplan: \nWS 1: Samstag 18-19.30 Ladies Technique: Paula’s Lieblingsverzierungen \nWS 2: Sonntag 15.30-17.00 Die Umarmung: Finde die Verbindung zu deiner eigenen Mitte und zu deinem/r Partner/in \nWS 3: Sonntag 17.00-18.30 Sacadas und Entradas im Giro und in Ochos (WS2 empfohlen vor WS3) \nFür Anmeldung bitte eine Email schicken an: saritaapel@gmail.com \nSonntag 11 Uhr: Hypopressives Workshop – sehr zu empfehlen in Verbindung mit den anderen Workshops! Info und Anmeldung hierfür bei Tango NJ: tangonj.de \nPreisliste Workshops: \n1 WS :25€ \n2WS :40€ \n3WS : 55€ \n  \nENGLISH :  \nPAULA RUBIN from Buenos Aires has once again planned a stop in Wiesbaden on this European tour! \nWith over 20 years of tango experience\, Paula has a lot of knowledge to share with you. She also specializes in the Hypopressives technique\, which trains the core\, posture\, and breathing\, and promotes healthy movement technique. \nTo know more about Paula Rubin click here: https://griceltangoargentino.com/about-the-artists \nPaula will be in Wiesbaden from April 10–12 and is also available for private lessons. \nWorkshop Schedule: \nWS 1: Saturday 6:00–7:30 PM\nLadies’ Technique: Paula’s Favorite Embellishments \nWS 2: Sunday 3:30–5:00 PM\nThe Embrace: Find the connection to your own center and to your partner \nWS 3: Sunday 5:00–6:30 PM\nSacadas and Entradas in Giros and Ochos\n(WS 2 recommended before WS 3) \nTo register please send an email to saritaapel@gmail.com \nSunday 11am:\nHypopressives Workshops – highly recommended in combination with the other workshops!\nFor Hypopressives information and registration via Tango NJ: tangonj.de \nPrice list workshops: \n1 WS :25€ \n2WS :40€ \n3WS : 55€
URL:https://tango-calendar.de/event/tango-weekend-with-paula-rubin/2026-04-12/
LOCATION:Tango NJ Wiesbaden\, Walluferstraße 1\, Wiesbaden\, Hessen\, 65197\, Germany
CATEGORIES:Kurse,Workshop
ATTACH;FMTTYPE=image/jpeg:https://tango-calendar.de/wp-content/uploads/2026/01/Bazaart_A81F9BF4-8F73-4966-8BE2-F92B93212C5B.jpeg
ORGANIZER;CN="Tango Mariano &amp%3B Astria":MAILTO:saritaapel@gmail.com
GEO:50.0843808;8.2080971
X-APPLE-STRUCTURED-LOCATION;VALUE=URI;X-ADDRESS=Tango NJ Wiesbaden Walluferstraße 1 Wiesbaden Hessen 65197 Germany;X-APPLE-RADIUS=500;X-TITLE=Walluferstraße 1:geo:8.2080971,50.0843808
END:VEVENT
BEGIN:VEVENT
DTSTART;VALUE=DATE:20260514
DTEND;VALUE=DATE:20260519
DTSTAMP:20260421T164245
CREATED:20260223T072504Z
LAST-MODIFIED:20260223T072504Z
UID:10021454-1778724000-1779069599@tango-calendar.de
SUMMARY:Tango Escape im WILHELMSTHAL
DESCRIPTION:Wir freuen uns\, Ihr in unsere neue Special Location in WILHELMSTHAL bei Eisenach einzuladen! \nmitten in Deutschland\, hier kann man Tango und Natur genießen!!\nWir tanzen von Donnerstag\, 14. Mai bis Sonntag\, 17. Mai 2026. \nWir möchten eine geschlossene Gruppe haben\, die Tango liebt und in fröhlicher Atmosphäre tanzen möchte!\nUnsere Idee ist es\, gemeinsam zu tanzen\, viel lernen\, kochen und trinken!! \nWir bieten italienische und argentinische Küche.\n(Bitte teil uns bei der Anmeldung mit\, ob ihr Vegetarier seit oder ob bei Euch eine Unverträglichkeit vorliegt) \nDER PLAN: \nDONNERSTAG\n18:00 Ankunft\n19:30 Abendessen\n20:30 – 21:30 Geführte Praktika mit Leandro y Gaia\n21:30 Milonga mit DJ Gaia \nFREITAG\n09:00 – 10:00 Somatisches Yoga (10€ pro Person extra)\n11:00 – 13:00 Seminar mit Leandro y Gaia\n13:30 Mittagessen\n15:00 – 16:30 Geführte Praktika mit Gustavo\n16:00 Kuchen Zeit\n17:00 – 18:30 Seminar mit Leandro y Gaia\n19:30 Abendessen\n21:30 Uhr Milonga mit DJ Leandro \nSAMSTAG\n09:00 – 10:00 Somatisches Yoga (10€ pro Person extra)\n11:00 – 13:00 Seminar mit Leandro y Gaia\n13:30 Mittagessen\n15:00 – 16:30 Geführte Praktika mit Gustavo\n16:00 Kuchen Zeit\n17:00 – 18:30 Seminar mit Leandro y Gaia\n19:30 Abendessen\n21:30 Uhr Milonga mit DJ Gustavo \nSONNTAG\n09:30 – 14:00 Uhr Brunch\n11:00 – 13:00 Seminar mit Leandro y Gaia\n13:00 – 15:00 Frei tanzen\n16:00 Abfahrt \nPREIS/PERSON\n(Preis exkl. Unterkunft)\nVon Do bis So\n400€ – inkl. Mahlzeiten wie beschrieben\nNur 1 Tag Freitag/Samstag\n170€ (3\,5 Stunden Seminar\, 1 Praktika\, 1 Milonga / Frühstück + Mittagessen + Kuchen + Abendessen) \nDie Unterkunft beinhaltet keine Bettwäsche (Bettwäsche kostet 10 € zusätzlich pro Person). \nBring eure eigenen Handtücher mit: WIR HABEN SAUNA im Preis inbegriffen!!!! \nUnterkunft x 3 Nächte \nHaupthaus\n2-Bett-Zimmer mit eigenem Bad 220 € pro Person (nur 8 verfügbar)\n3-Bett-Zimmer mit eigenem Bad 160 € pro Person (nur 3 verfügbar)\n4-Bett-Zimmer mit eigenem Bad 130 € pro Person (nur 1 verfügbar) \nInfos und Anmeldung: info@leandroygaia.com oder info@gustavobrotango.com \nOrg.: Gustavo Bronzino und Gaia Pisauro \nOrt\nKulturgut Wilhelmsthal\nWilhelmsthal 20\,\n99834 Marksuhl
URL:https://tango-calendar.de/event/tango-escape-im-wilhelmsthal/
LOCATION:kulturgut wilhelmsthal\, Wilhelmsthal 20\, Marksuhl\, Thüringen\, 99834\, Germany
CATEGORIES:Tangoreise
ATTACH;FMTTYPE=image/jpeg:https://tango-calendar.de/wp-content/uploads/2026/02/01__Waldhaus___6-scaled.jpg
ORGANIZER;CN="Gaia%2C Gustavo%2C Leandro%2C Manon":MAILTO:info@gustavobrotango.com
GEO:50.9169606;10.3068098
X-APPLE-STRUCTURED-LOCATION;VALUE=URI;X-ADDRESS=kulturgut wilhelmsthal Wilhelmsthal 20 Marksuhl Thüringen 99834 Germany;X-APPLE-RADIUS=500;X-TITLE=Wilhelmsthal 20:geo:10.3068098,50.9169606
END:VEVENT
END:VCALENDAR