BEGIN:VCALENDAR
VERSION:2.0
PRODID:-//Tango Kalender - ECPv6.15.20//NONSGML v1.0//EN
CALSCALE:GREGORIAN
METHOD:PUBLISH
X-ORIGINAL-URL:https://tango-calendar.de
X-WR-CALDESC:Veranstaltungen für Tango Kalender
REFRESH-INTERVAL;VALUE=DURATION:PT1H
X-Robots-Tag:noindex
X-PUBLISHED-TTL:PT1H
BEGIN:VTIMEZONE
TZID:Europe/Berlin
BEGIN:DAYLIGHT
TZOFFSETFROM:+0100
TZOFFSETTO:+0200
TZNAME:CEST
DTSTART:20250330T010000
END:DAYLIGHT
BEGIN:STANDARD
TZOFFSETFROM:+0200
TZOFFSETTO:+0100
TZNAME:CET
DTSTART:20251026T010000
END:STANDARD
BEGIN:DAYLIGHT
TZOFFSETFROM:+0100
TZOFFSETTO:+0200
TZNAME:CEST
DTSTART:20260329T010000
END:DAYLIGHT
BEGIN:STANDARD
TZOFFSETFROM:+0200
TZOFFSETTO:+0100
TZNAME:CET
DTSTART:20261025T010000
END:STANDARD
BEGIN:DAYLIGHT
TZOFFSETFROM:+0100
TZOFFSETTO:+0200
TZNAME:CEST
DTSTART:20270328T010000
END:DAYLIGHT
BEGIN:STANDARD
TZOFFSETFROM:+0200
TZOFFSETTO:+0100
TZNAME:CET
DTSTART:20271031T010000
END:STANDARD
END:VTIMEZONE
BEGIN:VEVENT
DTSTART;TZID=Europe/Berlin:20261113T163000
DTEND;TZID=Europe/Berlin:20261115T200000
DTSTAMP:20260425T151157
CREATED:20251120T154414Z
LAST-MODIFIED:20260313T103742Z
UID:10019583-1794587400-1794772800@tango-calendar.de
SUMMARY:Paradiso Milonguero Tango Marathon
DESCRIPTION:Paradiso Milonguero – November 13–15\, 2026\nTraditional Tango Marathon for Lovers of Close Embrace\nCinema Paradiso & Arte – Ludwigshafen Germany\njust a heartbeat away from Mannheim and Heidelberg\n\nA milonguero-oriented tango marathon with carefully selected traditional music\, vinyl DJ sets and a harmonious\, well-balanced dance floor.\nSet in the warm and soulful atmosphere of the historic Cinema Paradiso & Arte\, the weekend is dedicated to connection\, musicality and the joy of social dancing.
URL:https://tango-calendar.de/event/paradiso-milonguero-2/
LOCATION:Cinema Paradiso &amp; Arte\, Hemshofstraße 56\, Ludwigshafen\, 67063
CATEGORIES:Milonga,Traditional
ATTACH;FMTTYPE=image/jpeg:https://tango-calendar.de/wp-content/uploads/2025/11/IMG-20251114-WA0002.jpg
GEO:49.490437;8.4341451
X-APPLE-STRUCTURED-LOCATION;VALUE=URI;X-ADDRESS=Cinema Paradiso &amp; Arte Hemshofstraße 56 Ludwigshafen 67063;X-APPLE-RADIUS=500;X-TITLE=Hemshofstraße 56:geo:8.4341451,49.490437
END:VEVENT
END:VCALENDAR