BEGIN:VCALENDAR
VERSION:2.0
PRODID:-//Tango Kalender - ECPv6.15.20//NONSGML v1.0//EN
CALSCALE:GREGORIAN
METHOD:PUBLISH
X-ORIGINAL-URL:https://tango-calendar.de
X-WR-CALDESC:Veranstaltungen für Tango Kalender
REFRESH-INTERVAL;VALUE=DURATION:PT1H
X-Robots-Tag:noindex
X-PUBLISHED-TTL:PT1H
BEGIN:VTIMEZONE
TZID:Europe/Berlin
BEGIN:DAYLIGHT
TZOFFSETFROM:+0100
TZOFFSETTO:+0200
TZNAME:CEST
DTSTART:20250330T010000
END:DAYLIGHT
BEGIN:STANDARD
TZOFFSETFROM:+0200
TZOFFSETTO:+0100
TZNAME:CET
DTSTART:20251026T010000
END:STANDARD
BEGIN:DAYLIGHT
TZOFFSETFROM:+0100
TZOFFSETTO:+0200
TZNAME:CEST
DTSTART:20260329T010000
END:DAYLIGHT
BEGIN:STANDARD
TZOFFSETFROM:+0200
TZOFFSETTO:+0100
TZNAME:CET
DTSTART:20261025T010000
END:STANDARD
BEGIN:DAYLIGHT
TZOFFSETFROM:+0100
TZOFFSETTO:+0200
TZNAME:CEST
DTSTART:20270328T010000
END:DAYLIGHT
BEGIN:STANDARD
TZOFFSETFROM:+0200
TZOFFSETTO:+0100
TZNAME:CET
DTSTART:20271031T010000
END:STANDARD
END:VTIMEZONE
BEGIN:VTIMEZONE
TZID:Europe/Athens
BEGIN:DAYLIGHT
TZOFFSETFROM:+0200
TZOFFSETTO:+0300
TZNAME:EEST
DTSTART:20250330T010000
END:DAYLIGHT
BEGIN:STANDARD
TZOFFSETFROM:+0300
TZOFFSETTO:+0200
TZNAME:EET
DTSTART:20251026T010000
END:STANDARD
BEGIN:DAYLIGHT
TZOFFSETFROM:+0200
TZOFFSETTO:+0300
TZNAME:EEST
DTSTART:20260329T010000
END:DAYLIGHT
BEGIN:STANDARD
TZOFFSETFROM:+0300
TZOFFSETTO:+0200
TZNAME:EET
DTSTART:20261025T010000
END:STANDARD
BEGIN:DAYLIGHT
TZOFFSETFROM:+0200
TZOFFSETTO:+0300
TZNAME:EEST
DTSTART:20270328T010000
END:DAYLIGHT
BEGIN:STANDARD
TZOFFSETFROM:+0300
TZOFFSETTO:+0200
TZNAME:EET
DTSTART:20271031T010000
END:STANDARD
END:VTIMEZONE
BEGIN:VEVENT
DTSTART;VALUE=DATE:20260423
DTEND;VALUE=DATE:20260428
DTSTAMP:20260421T142225
CREATED:20260318T090359Z
LAST-MODIFIED:20260325T221032Z
UID:10021546-1776909600-1777255199@tango-calendar.de
SUMMARY:La Maravilla de Abril
DESCRIPTION:Tango Argentino – Festival by Tangowunderland\n\n\n\nDo 23.04. bis So 26.04. 2026\n\n\n\n\n\nMeine lieben Besucher des Tangowunderlandes! Danke für das phantastische Wochenende im Herbst! Ich möchte gerne mehr davon. Deshalb lade ich Euch ein\, zum \nMaravilla de Abril! \nLasst uns gemeinsam ein phantastisches Frühlings – Tangowochenende genießen. \n\nDonnerstag Abend: Pre-Milonga mit TDJ Jörn Guth\nFreitag Abend: Milonga mit TDJane Mara aus Dresden – mit einem Mix aus etwas neo und mehr traditionell\nSamstag Abend: Grand Milonga mit Otros Aires Cuarteto Live – erstmals mit dem Neuen “Album Tango Mundi” und TDJ Gabriel Sodini\nSonntag nach dem auschecken: Milonga mit Jonas Maria Joma \n\nWorkshops: Freitag bis Sonntag\, Einsteiger\, Vals\, Milonga – Werkstatt mit Joaquin Martinez (BA\, Madrid\, Paris) \nJoaquin ist noch nicht so bekannt in Deutschland – bisher exclusiv im Tangowunderland. Die Workshops mit ihm machen unglaublich Spaß und er ist Tanguero “vom Scheitel bis zur Fußsohle” Mehr Infos gibt es auf der Webseite \nNEU: Seminario del Tango Schwerpunkt Musik\, die Entwicklung der Orchester und die Epochen des Tango\nWorkshop Tango DJ  \nIch freu mich riesig auf Euch!!
URL:https://tango-calendar.de/event/la-milonga-de-abril/
LOCATION:Tangowunderland Plauen\, Haus Vogtland\, Plauen\, Sachsen\, 08523\, Germany
CATEGORIES:Festival,GRAN-Milonga,Live Musik,Neo/Nuevo,Traditional,Workshop
ATTACH;FMTTYPE=image/jpeg:https://tango-calendar.de/wp-content/uploads/2026/03/Plakat-Maravilla-scaled.jpg
ORGANIZER;CN="Tangowunderland":MAILTO:alice@tangowunderland.de
GEO:50.5453757;12.0838522
X-APPLE-STRUCTURED-LOCATION;VALUE=URI;X-ADDRESS=Tangowunderland Plauen Haus Vogtland Plauen Sachsen 08523 Germany;X-APPLE-RADIUS=500;X-TITLE=Haus Vogtland:geo:12.0838522,50.5453757
END:VEVENT
BEGIN:VEVENT
DTSTART;TZID=Europe/Berlin:20260424T180000
DTEND;TZID=Europe/Berlin:20260424T210000
DTSTAMP:20260421T142225
CREATED:20251120T154356Z
LAST-MODIFIED:20260318T091143Z
UID:10019567-1777053600-1777064400@tango-calendar.de
SUMMARY:Worms: Tauche ein in die Leidenschaft und Eleganz des Tango Argentino.
DESCRIPTION:Worms \nTauche ein in die Leidenschaft und Eleganz des argentinischen Tangos. \nUnsere Kurse\, geleitet von den Lehrern Marianna und Daniel\, begleiten dich von den ersten Schritten bis hin zu den anspruchsvollsten Bewegungen – immer angepasst an dein Tempo und Niveau. Genieße eine warme und professionelle Atmosphäre\, in der Technik\, Musik und Verbindung zu einem einzigartigen Erlebnis verschmelzen. \nFreitag: (Gerade)19:00–20:00 Anfänger20:00–21:00 Technik21:00–22:00 Mittelstufe & Fortgeschrittene \nOrt:\n \nTango- und Kultursalon La Bohème im Kunsthaus Worms\nPrinz-Carl-Anlage 19  67547 Worms \n📞 +49 176 3421 2366📧 oscar.gimenez@blancoynegro.deℹ️ Mehr Informationen und Anmeldung: blancoynegrotango.de/Worms/ \nHier findest du alle Details zu den Locations und Zeiten in Worms und die Anmeldung. Melde dich an und teste uns. Wir freuen uns auf dich!! \nDas findest du nur bei uns: Wir unterstützen dein Training zu Hause mit professionellen Videos. Hier kannst du sie sehen. Sie werden wöchentlich aktualisiert. \nHier kannst du Marianna und Daniel auf unserer Valentinsmilonga tanzen sehen. Sie gehören zu den besten Tangotänzer der Region und sind weltweit bekannt. Auf der Weltmeisterschaft 2024 in Buenos Aires kamen sie ins Halbfinale. \nHier kannst du dich registrieren\, wenn du einen Tanzpartner/Tanzpartnerin suchst. \nLasst uns die Magie des Tangos weiter gemeinsam erleben!
URL:https://tango-calendar.de/event/worms-tauche-ein-in-die-leidenschaft-und-eleganz-des-tango-argentino-2/2026-04-24/
LOCATION:TangoSalon La Bohème\, Prinz-Carl-Anlage 19 (3.OG)\, Worms\, 67547\, Deutschland
CATEGORIES:Kurse,Traditional
ATTACH;FMTTYPE=image/png:https://tango-calendar.de/wp-content/uploads/2025/11/Worms.png
ORGANIZER;CN="Blanco y Negro Tango":MAILTO:oscar@blancoynegro.de
GEO:49.6416823;8.3623664
X-APPLE-STRUCTURED-LOCATION;VALUE=URI;X-ADDRESS=TangoSalon La Bohème Prinz-Carl-Anlage 19 (3.OG) Worms 67547 Deutschland;X-APPLE-RADIUS=500;X-TITLE=Prinz-Carl-Anlage 19 (3.OG):geo:8.3623664,49.6416823
END:VEVENT
BEGIN:VEVENT
DTSTART;TZID=Europe/Berlin:20260424T200000
DTEND;TZID=Europe/Berlin:20260424T235900
DTSTAMP:20260421T142225
CREATED:20260419T150056Z
LAST-MODIFIED:20260419T150056Z
UID:10021866-1777060800-1777075140@tango-calendar.de
SUMMARY:Abrázame – Milonga im Forum Kohlheck
DESCRIPTION:Herzliche Einladung zur 2. Ausgabe der Milonga im Forum Kohlheck \nWann? Am 24. April 2026\, von 20 – 24 Uhr. DJ wird Andy Ungureanu sein. \nDer Rahmen: Ein Saal mit Kopffreiheit\, 120 qm Holzboden\, Küche\, Garderobe und Platz zum Schuhe wechseln/lassen\, gepflegte WCs und in den umliegenden Straßen Platz genug zum Parken. \nDas Forum wird von einem Verein betrieben – es gibt keine Gastronomie.  \nAn Getränken biete ich Wein\, rot und weiß und Crémant gegen Entgelt\, Wasser kalt und heiß gibt es umsonst\, wer Bier oder Softdrinks möchte\, kann die gerne mitbringen. Kühlmöglichkeiten sind vorhanden\, Gläser ebenso. \nBitte nicht auf das Forum-Gelände fahren; dort gibt es nur Privatparkplätze! \nBus Linie 4 fährt vom Wiesbadener HBF bis Helmholtz. Dann noch 400 m. Zurück zum HBF bis 0:36 Uhr.
URL:https://tango-calendar.de/event/abrazame-milonga-im-forum-kohlheck-6/2026-04-24/
LOCATION:Forum Kohlheck\, Kohlheckstr. 28\, Wiesbaden\, Hessen\, 65199\, Germany
CATEGORIES:Milonga
ATTACH;FMTTYPE=image/jpeg:https://tango-calendar.de/wp-content/uploads/2026/04/webpic-Mil-Kohlheck.jpg
GEO:50.0805102;8.1912489
X-APPLE-STRUCTURED-LOCATION;VALUE=URI;X-ADDRESS=Forum Kohlheck Kohlheckstr. 28 Wiesbaden Hessen 65199 Germany;X-APPLE-RADIUS=500;X-TITLE=Kohlheckstr. 28:geo:8.1912489,50.0805102
END:VEVENT
BEGIN:VEVENT
DTSTART;TZID=Europe/Berlin:20260425T193000
DTEND;TZID=Europe/Berlin:20260426T000000
DTSTAMP:20260421T142225
CREATED:20251107T081445Z
LAST-MODIFIED:20251107T081445Z
UID:10019407-1777145400-1777161600@tango-calendar.de
SUMMARY:ABailar! - Milonga
DESCRIPTION:Wir verwandeln den ca. 200 m2 großen Saal des Ludwigstheaters für Euch in eine großzügige Tanzfläche. \nDas Ludwigstheater verfügt auch über einen Barbereich\, in dem man in angenehmer Atmosphäre mit Tangofreunden und Bekannten eine kleine Pause einlegen kann\, bis der Klang der nächsten Tanda einen wieder auf die Tanzfläche zieht. \nVeranstaltungsort ist das Ludwigstheater »Actors Company« Ludwigstraße 7 in Aschaffenburg (Zugang über die Hofeinfahrt neben Kleberstraße 5) \nÜbrigens! Das Ludwigstheater liegt direkt gegenüber dem Aschaffenburger Hauptbahnhof und dem regionalen Busbahnhof und ist hervorragend aus allen Richtungen mit Öffentlichen Verkehrsmitteln zu erreichen. \nWir freuen uns auf die kommenden Umarmungen mit Euch \nEure ABailars
URL:https://tango-calendar.de/event/abailar-milonga-8/
LOCATION:Ludwigstheater\, Ludwigstrasse 7\, Aschaffenburg\, Bayern\, 63739\, Deutschland
CATEGORIES:Milonga,Traditional
ATTACH;FMTTYPE=image/jpeg:https://tango-calendar.de/wp-content/uploads/2025/11/Milonga-Bild-Tanzendes-Paar-3.jpg
GEO:49.9797327;9.1428368
X-APPLE-STRUCTURED-LOCATION;VALUE=URI;X-ADDRESS=Ludwigstheater Ludwigstrasse 7 Aschaffenburg Bayern 63739 Deutschland;X-APPLE-RADIUS=500;X-TITLE=Ludwigstrasse 7:geo:9.1428368,49.9797327
END:VEVENT
BEGIN:VEVENT
DTSTART;TZID=Europe/Berlin:20260425T203000
DTEND;TZID=Europe/Berlin:20260426T003000
DTSTAMP:20260421T142225
CREATED:20260309T061459Z
LAST-MODIFIED:20260309T061459Z
UID:10021527-1777149000-1777163400@tango-calendar.de
SUMMARY:„NEOLONGA am Zoo“ am 25.04.2026 mit DJ Mario
DESCRIPTION:Feel the difference – von Slow Motion bis kraftvoll-dynamisch\, lass Tanz und Musik verschmelzen! \n100% Non- & Neotango ohne Cortinas\, jeder kann jeden auffordern – mit oder ohne Cabeceo. \nEintritt frei – Spenden willkommen.
URL:https://tango-calendar.de/event/neolonga-am-zoo-am-25-04-2026-mit-dj-mario/
LOCATION:FTV 1860 Ravenstein-Zentrum\, Hans-Grötsch-Halle\, Pfingstweidstraße 7\, Frankfurt am Main\, Hessen\, 60316\, Germany
CATEGORIES:Milonga,Neo/Nuevo,Non-Tango
ATTACH;FMTTYPE=image/png:https://tango-calendar.de/wp-content/uploads/2026/03/Neolonga-2026-04-25.png
ORGANIZER;CN="FTV Dance Connection":MAILTO:tangomotion@gmx.de
GEO:50.1163684;8.6966937
X-APPLE-STRUCTURED-LOCATION;VALUE=URI;X-ADDRESS=FTV 1860 Ravenstein-Zentrum Hans-Grötsch-Halle Pfingstweidstraße 7 Frankfurt am Main Hessen 60316 Germany;X-APPLE-RADIUS=500;X-TITLE=Pfingstweidstraße 7:geo:8.6966937,50.1163684
END:VEVENT
BEGIN:VEVENT
DTSTART;TZID=Europe/Berlin:20260426T160000
DTEND;TZID=Europe/Berlin:20260426T203000
DTSTAMP:20260421T142225
CREATED:20251025T100606Z
LAST-MODIFIED:20251025T133734Z
UID:10019285-1777219200-1777235400@tango-calendar.de
SUMMARY:La Cuerda GRAN Milonga - 2. und 4. Sonntag - Exilonga in der Conexión
DESCRIPTION:Wie es scheint\, wird es noch bis 2026 dauern\, bis wir die reguläre La Cuerda — Gran Milonga wieder in der Seilerei stattfinden lassen können. \nBis auf weiteres findet die EXILONGA jeweils am 2. und 4. Sonntag in der Tanzschule Conexión statt. \n\nAnfahrt mit dem ÖPNV: U6 & U7 oder M34 & N7 nehmen bis Haltestelle Fischstein. Nach Süden hin die Straße überqueren — der Eingang befindet sich auf der Rückseite des gelben Mehrzweckgebäudes „Am Industriehof 7“.\nParkpätze fürs Auto: IXI-Getränkemarkt direkt gegenüber der Tanzschule oder Brentanobad.\n\nAktuelle Informationen auf unserer Homepage la-cuerda.de \nIt seems it will take until 2026 before we can host the regular La Cuerda — Gran Milonga at the Seilerei again. \nUntil further notice the EXILONGA will take place on the 2nd and 4th Sundays at the Conexión dance-school. \n\nDirections by public transport: Take U6 & U7 or M34 & N7 to Fischstein stop. Cross the street to the south – the entrance is on the back of the yellow multi-purpose building „Am Industriehof 7“.\nParking spaces for cars: IXI-Getränkemarkt directly opposite the dance school or Brentanobad.\n\nActual information about our events at our homepage la-cuerda.de
URL:https://tango-calendar.de/event/la-cuerda-gran-milonga-2-und-4-sonntag-exilonga-in-der-conexion/2026-04-26/
LOCATION:Salsa-Tanzschule Conexion\, Am Industriehof 7\, Frankfurt am Main\, Hessen\, 60487\, Germany
CATEGORIES:GRAN-Milonga,Milonga,Traditional
ATTACH;FMTTYPE=image/png:https://tango-calendar.de/wp-content/uploads/2025/10/cropped-Logo-CI-2-1.png
GEO:50.128966;8.6241751
X-APPLE-STRUCTURED-LOCATION;VALUE=URI;X-ADDRESS=Salsa-Tanzschule Conexion Am Industriehof 7 Frankfurt am Main Hessen 60487 Germany;X-APPLE-RADIUS=500;X-TITLE=Am Industriehof 7:geo:8.6241751,50.128966
END:VEVENT
BEGIN:VEVENT
DTSTART;TZID=Europe/Berlin:20260426T170000
DTEND;TZID=Europe/Berlin:20260426T190000
DTSTAMP:20260421T142225
CREATED:20260218T180055Z
LAST-MODIFIED:20260331T154614Z
UID:10021419-1777222800-1777230000@tango-calendar.de
SUMMARY:ContacTango Jamilonga mit Intro @ tabeko Frankfurt
DESCRIPTION:Alle Levels. Intro/Warmup & dann tanzen … \n17 Uhr Jamilonga\, anschließend um 19 Uhr Contact-Jam\nim Haus der Jugend / Deutschherrnufer / Frankfurt am Main \nNächste Termine wenn nicht anders angekündigt – bitte schaut auf der tabeko-Website – meist am letzten Sonntag im Monat\, jeweils um 17 Uhr. \nMehr Details\, aktuelle Termine\, Mini- und Maxiworkshops etc. findet ihr auf der tabeko-Website!\nDort könnt Ihr euch auch für den Newsletter mit den aktuellen Terminen registrieren. \nContacTango \nArgentinischer Tango und Contact Improvisation teilen trotz ihrer unterschiedlichen Bewegungsqualitäten die Improvisation als zentrales Element. Im ContacTango werden Gemeinsamkeiten und Unterschiede beider Tanzformen in einem kreativen Prozess verbunden\, so dass Neues entstehen kann. \nAusgehend von Musikalität\, Körperachse und Gehen erforschen wir Grundlagen des Tangos und verknüpfen sie mit Qualitäten der Contact Improvisation: Körperstruktur\, Schwerkraft und dem eigenen Zentrum jeder Person. Daraus entstehen neue Bewegungsmöglichkeiten\, die beide Tanzformen bereichern können. \nSo entwickelt sich ein Tanz\, der die poetische Bildsprache des Tango Argentino mit den freien Bewegungsmustern der Contact Improvisation verbindet und Begegnungen voller Überraschung und Poesie ermöglicht. \ntabeko e.V. \ntabeko ist die Plattform der regionalen Contact Improvisation Community. Bei unseren Contactango-Events treffen sich Contacter\, Tangueros und Tanzbegeisterte\, um Musik\, Bewegung und Begegnung in einem achtsamen Umfeld gemeinsam zu erforschen. 
URL:https://tango-calendar.de/event/contactango-jamilonga-mit-intro-tabeko-frankfurt-5/
LOCATION:Haus der Jugend – Frankfurt Main\, Deutschherrnufer 12\, Frankfurt am Main / Sachsenhausen\, 60594\, Germany
CATEGORIES:Milonga,Neo/Nuevo,Non-Tango
ORGANIZER;CN="tabeko eV":MAILTO:contact@tabeko.de
GEO:50.1070341;8.6893984
X-APPLE-STRUCTURED-LOCATION;VALUE=URI;X-ADDRESS=Haus der Jugend – Frankfurt Main Deutschherrnufer 12 Frankfurt am Main / Sachsenhausen 60594 Germany;X-APPLE-RADIUS=500;X-TITLE=Deutschherrnufer 12:geo:8.6893984,50.1070341
END:VEVENT
BEGIN:VEVENT
DTSTART;TZID=Europe/Athens:20260427T110000
DTEND;TZID=Europe/Athens:20260504T110000
DTSTAMP:20260421T142225
CREATED:20260118T134023Z
LAST-MODIFIED:20260118T134023Z
UID:10021152-1777287600-1777892400@tango-calendar.de
SUMMARY:Tango Week Marathon
DESCRIPTION: Eine Woche All-Inclusive-Tango-Urlaub auf der wunderschönen Insel Kreta!  27. April – 4. Mai 2026 & 28. Oktober – 06. November 2026 In einem der besten All-Inclusive-Resorts direkt am Meer auf Kreta TANGO-Kurse\, Prácticas & Milongas jeden Tag (Mo–Do) Ein lebendiger Tango-Marathon mit international renommierten DJs (Fr–So)Ob alleine\, mit Partner oder sogar mit der Familie – dieses Event verbindet: Entspannte Ferien in einem luxuriösen All-Inclusive-Resort Traditionelle kretische Küche & Getränke Tägliches Tanzen mit Tangueros aus Griechenland\, Europa & der ganzen Welt All das für nur 65 € pro Tag! Jetzt buchen\, später bezahlen – sichere dir deinen Platz und freue dich auf einen unvergesslichen Tango-Urlaub!www.tangoweekmarathon.com
URL:https://tango-calendar.de/event/tango-week-marathon/
LOCATION:Heraklion\, Hersonissos\, Crete\, 70014\, Greece
CATEGORIES:Tangoreise
ATTACH;FMTTYPE=image/jpeg:https://tango-calendar.de/wp-content/uploads/2026/01/Flyer-TWM-April-2026.jpeg
ORGANIZER;CN="Tango MucHer":MAILTO:cretetangotrip@yahoo.gr
GEO:35.3340246;25.3406766
X-APPLE-STRUCTURED-LOCATION;VALUE=URI;X-ADDRESS=Heraklion Hersonissos Crete 70014 Greece;X-APPLE-RADIUS=500;X-TITLE=Hersonissos:geo:25.3406766,35.3340246
END:VEVENT
BEGIN:VEVENT
DTSTART;TZID=Europe/Berlin:20260428T203000
DTEND;TZID=Europe/Berlin:20260428T233000
DTSTAMP:20260421T142225
CREATED:20260117T080507Z
LAST-MODIFIED:20260314T113126Z
UID:10021246-1777408200-1777419000@tango-calendar.de
SUMMARY:Sombrero milonguero am Dienstag
DESCRIPTION:Herzlich willkommen zur Dienstagsmilonga im schönen Wiesbadener Tangowohnzimmer \n2x im Monat\, in den geraden Kalenderwochen\, findet die traditionelle Milonga mit wechselnden Djs statt. Aufgelegt wird in Tandas mit Cortinas\, wir schätzen Mirada und Cabeceo und bieten eine gute Ronda. \nWir tanzen im schönen Saal des Sombrero Latino\, unter großen Kronleuchtern auf einem guten Holzboden (etwa 70 qm). \nDer Saal liegt im Hinterhof; ihr kommt dort hin durchs Restaurant. Sebastian und Joana verwöhnen euch gerne mit leckerer argentinischer Küche – auch kleine Gerichte gibt es – und gepflegten Getränken. Bitte Tisch reservieren. \nBringt eure LieblingstänzerInnen und lasst uns schöne Abende dort zusammen verbringen. \nNos vemos
URL:https://tango-calendar.de/event/sombrero-milonguero-am-freitag/2026-04-28/
LOCATION:Sombrero Latino\, Adolfstraße 3\, Wiesbaden\, Hessen\, 65185\, Deutschland
CATEGORIES:Milonga,Traditional
ATTACH;FMTTYPE=image/jpeg:https://tango-calendar.de/wp-content/uploads/2026/01/446804402_10223612709018355_3955214332730381950_n-1.jpg
GEO:50.0768625;8.2396374
X-APPLE-STRUCTURED-LOCATION;VALUE=URI;X-ADDRESS=Sombrero Latino Adolfstraße 3 Wiesbaden Hessen 65185 Deutschland;X-APPLE-RADIUS=500;X-TITLE=Adolfstraße 3:geo:8.2396374,50.0768625
END:VEVENT
BEGIN:VEVENT
DTSTART;TZID=Europe/Berlin:20260429T200000
DTEND;TZID=Europe/Berlin:20260429T235900
DTSTAMP:20260421T142225
CREATED:20260309T061452Z
LAST-MODIFIED:20260309T061452Z
UID:10021525-1777492800-1777507140@tango-calendar.de
SUMMARY:Práctica und Milonga del Opera
DESCRIPTION:Hola Tanger@s\, \nwir heißen euch herzlich willkommen bei der Milonga in der Grande Opera. \nPráctica von 20:00 bis 21:00 \nMilonga ab 21:00 \nEuch erwartet eine abwechslungsreiche Mischung aus allen Tango Epochen\, Traditionell\, Época de Oro\, Neo Tango\, Tango Nuevo und „neuem Traditionellen“. \nMilonga in einer Location von der alle wissen – also traut Euch. Dresscode von normal bis alles was gefällt\, Hauptsache ihr fühlt euch wohl. \nAusreichend Parkmöglichkeiten im Hof\, Bahnhof Offenbach 10 Minuten zu Fuß. \nHinweis: Der weiterführende Link unten führt zum Tangokurs\, welcher immer Mittwochs stattfindet. Ausnahme ist der letzte Mittwoch des Monats. Dann finden die Práctica und die Milonga statt. \nLaura\, Achim\, Robert und das Team der GO freuen uns auf euch.
URL:https://tango-calendar.de/event/practica-und-milonga-del-opera/
LOCATION:Grande Opera\, Christian-Pleß-Straße 11-13\, Offenbach\, 63069\, Deutschland
CATEGORIES:Milonga
ATTACH;FMTTYPE=image/png:https://tango-calendar.de/wp-content/uploads/2026/03/2025_Milonga_del_Opera.png
GEO:50.0980846;8.7647549
X-APPLE-STRUCTURED-LOCATION;VALUE=URI;X-ADDRESS=Grande Opera Christian-Pleß-Straße 11-13 Offenbach 63069 Deutschland;X-APPLE-RADIUS=500;X-TITLE=Christian-Pleß-Straße 11-13:geo:8.7647549,50.0980846
END:VEVENT
BEGIN:VEVENT
DTSTART;TZID=Europe/Berlin:20260430T190000
DTEND;TZID=Europe/Berlin:20260501T010000
DTSTAMP:20260421T142225
CREATED:20260309T061512Z
LAST-MODIFIED:20260309T063411Z
UID:10021530-1777575600-1777597200@tango-calendar.de
SUMMARY:Tango in den Mai mit “Bandonegro”
DESCRIPTION:Konzert und Milonga mit Live-Musik mit “Bandonegro” \n19:00 Uhr Konzert Bandonegro \n20:30 bis 01:00 Uhr Milonga mit Live – Musik Bandonegro und Tango-DJ Anima Mina (Florenz)
URL:https://tango-calendar.de/event/tango-in-den-mai-mit-bandonegro/
LOCATION:Faust-Forum Staufen\, Schladererstr. 1\, Staufen\, 79219\, Germany
CATEGORIES:GRAN-Milonga,Live Musik
ATTACH;FMTTYPE=image/jpeg:https://tango-calendar.de/wp-content/uploads/2026/03/Plakat_30.4.2026-scaled.jpg
ORGANIZER;CN="Tango- und Bandoneonmuseum Staufen":MAILTO:info@staufentango.de
GEO:47.8795811;7.7316837
X-APPLE-STRUCTURED-LOCATION;VALUE=URI;X-ADDRESS=Faust-Forum Staufen Schladererstr. 1 Staufen 79219 Germany;X-APPLE-RADIUS=500;X-TITLE=Schladererstr. 1:geo:7.7316837,47.8795811
END:VEVENT
BEGIN:VEVENT
DTSTART;TZID=Europe/Berlin:20260430T193000
DTEND;TZID=Europe/Berlin:20260430T233000
DTSTAMP:20260421T142225
CREATED:20250802T094325Z
LAST-MODIFIED:20250802T094801Z
UID:10017282-1777577400-1777591800@tango-calendar.de
SUMMARY:⭐⭐⭐🎶🎵🕺💃💃🕺🎵🎶Tango Neroberg 2026🎶🎵🕺💃💃🕺🎵🎶😊😊✨✨✨
DESCRIPTION:Die Milonga Neroberg ist eine der beliebten Tango-Argentino-Veranstaltung in Wiesbaden. Diese regelmäßige Tanzveranstaltung findet wöchentlich in einer einzigartigen Atmosphäre statt\, da sie auf dem malerischen Neroberg gelegen ist. Tanguer@s und Tangobegeisterte kommen hier zusammen\, um den argentinischen Tango in einer entspannten und dennoch eleganten Umgebung zu genießen. Die Milonga bietet eine Mischung aus Neo und traditioneller Tangomusik\, die von erfahrenen DJs gespielt wird. \nUnsere DJanes und DJs sind Giza (Non\, Neo und Traditionell) und Achim (Traditionell mit Non und Neo-Crossover). \n  \nDJ(ane) Setting ab April 2026 \nApril\n30 Achim \nMai\n07 Giza\n14 Achim\n21 Giza\n28 Achim \nJuni\n04 Giza\n11 Achim\n18 Giza\n25 Giza \nJuli\n02 Giza\n09 Achim\n16 Achim\n23 Giza\n30 Achim \nAugust\n06 Giza\n13 Achim\n20 Giza\n27 Achim \nSeptember\n03 Giza\n10 Achim\n17 Giza\n25 Achim \n  \n 
URL:https://tango-calendar.de/event/%e2%ad%90%e2%ad%90%e2%ad%90%f0%9f%8e%b6%f0%9f%8e%b5%f0%9f%95%ba%f0%9f%92%83%f0%9f%92%83%f0%9f%95%ba%f0%9f%8e%b5%f0%9f%8e%b6tango-neroberg%f0%9f%8e%b6%f0%9f%8e%b5%f0%9f%95%ba%f0%9f%92%83%f0%9f%92%83-10/
LOCATION:Neroberg Wiesbaden\, Wilhelminenstraße\, Wiesbaden\, 65193\, Germany
CATEGORIES:Milonga,Traditional
ATTACH;FMTTYPE=image/jpeg:https://tango-calendar.de/wp-content/uploads/2024/07/caa9e4c208e9d026641ec6b5b030d312-1.jpg
ORGANIZER;CN="Neroberg Tango":MAILTO:achim@schaller.rocks
GEO:50.0947414;8.2254791
X-APPLE-STRUCTURED-LOCATION;VALUE=URI;X-ADDRESS=Neroberg Wiesbaden Wilhelminenstraße Wiesbaden 65193 Germany;X-APPLE-RADIUS=500;X-TITLE=Wilhelminenstraße:geo:8.2254791,50.0947414
END:VEVENT
BEGIN:VEVENT
DTSTART;TZID=Europe/Berlin:20260430T200000
DTEND;TZID=Europe/Berlin:20260501T010000
DTSTAMP:20260421T142225
CREATED:20260330T140048Z
LAST-MODIFIED:20260330T140048Z
UID:10021603-1777579200-1777597200@tango-calendar.de
SUMMARY:30.4.2026 Tangokonzert und Milonga mit Tango Marcando
DESCRIPTION:Das Ensemble Tango Marcando präsentiert Musik aus hundert Jahren Tango-Geschichte und setzt dessen einzigartige Emotionalität virtuos in Szene. Mit musikalischem Feinsinn bringt das Orchester die ganze Tiefe und Leidenschaft des Tangos auf die Bühne und knüpft in der Besetzung mit Streichern\, Bandoneon\, Klavier und Kontrabass an die Tradition der historischen „orquesta típica“ aus Buenos Aires an. \nDas Ensemble lässt anhand von Original-Arrangements stilsicher die musikalischen Kontraste und Klangfarben des Tango Argentino der Goldenen Ära der 40er und 50er Jahre aufleben und widmet sich darüber hinaus auch zeitgenössischen Kompositionen sowie dem Tango Nuevo von Astor Piazzolla. \nDie Sängerin Jezebel (Foto unten)\, früheres Ensemblemitglied am Theater Bukarest\, stand weltweit auf zahlreichen Bühnen und fasziniert mit ihrer tiefen\, berührenden Stimme\, mit der sie Geschichten von Leidenschaft\, Sehnsucht und Hoffnung erzählt. \nIm Anschluss an das Konzert lädt Tango Marcando ab ca. 21:30 Uhr zu einer Milonga ein\, in der alle tanzbegeisterten Tangueros/Tangueras zu Live-Musik tanzen können. Im Wechsel dazu legt der bekannte Heidelberger Tango-DJ Michael Arlt stimmungsvoll aufgebaute und wunderbar tanzbare Tandas auf. \n\n\n\nClaudia Louise Weigand Violine | Georg Lehr Violoncello | Norbert Kotzan Bandoneon\nMargarete Schurmann-Spengler Piano | Kai Spengler Kontrabass | Jezebel [Izabela Barbu] Gesang \nWebsite Tango Marcando \nKarten reservieren \nKarten kaufen & ausdrucken \nVeranstalter: Kulturzentrum Bessunger Knabenschule in Darmstadt
URL:https://tango-calendar.de/event/30-4-2026-tangokonzert-und-milonga-mit-tango-marcando/
LOCATION:Bessunger Knabenschule Darmstadt\, Ludwigshöhstraße 42\, Darmstadt\, 64285
CATEGORIES:Live Musik,Milonga
ATTACH;FMTTYPE=image/jpeg:https://tango-calendar.de/wp-content/uploads/2026/03/7720.jpg
GEO:49.8537341;8.656811
X-APPLE-STRUCTURED-LOCATION;VALUE=URI;X-ADDRESS=Bessunger Knabenschule Darmstadt Ludwigshöhstraße 42 Darmstadt 64285;X-APPLE-RADIUS=500;X-TITLE=Ludwigshöhstraße 42:geo:8.656811,49.8537341
END:VEVENT
BEGIN:VEVENT
DTSTART;TZID=Europe/Berlin:20260430T210000
DTEND;TZID=Europe/Berlin:20260501T020000
DTSTAMP:20260421T142225
CREATED:20260419T150109Z
LAST-MODIFIED:20260419T150109Z
UID:10021877-1777582800-1777600800@tango-calendar.de
SUMMARY:TANGO in den MAI
DESCRIPTION:DJ Sebastian Valencak aus Insbruck wird Euch mit seiner Musik verwöhnen. ♪♫ \nSebastian ist als Tango DJ schon mehr als 20 Jahre unterwegs. Regelmäßig legt er bei Milongas\, Tangoreisen\, Encuentros und Festivals in Österreich\, Deutschland\, Schweiz und Italien auf. Sein musikalischer Schwerpunkt ist eine abwechslungsreiche Selektion der Musik der Época de Oro\, aufgefrischt durch ein paar Tandas von gut tanzbaren Stücken der 50er Jahre bis zu zeitgenössischen Orchestern. \nDazu gibt es außergewöhnliche Tangomode von “Costume Couture” aus Berlin und Schuhe von “Mi Pasión” aus Stuttgart. \nEintritt 16.- € | 10.- € ermäßigt für Mitglieder
URL:https://tango-calendar.de/event/tango-in-den-mai/
LOCATION:Darmstadt
CATEGORIES:GRAN-Milonga,Milonga
ATTACH;FMTTYPE=image/jpeg:https://tango-calendar.de/wp-content/uploads/2026/04/movido_mai_160226-2048x955-1.jpg
END:VEVENT
END:VCALENDAR