BEGIN:VCALENDAR
VERSION:2.0
PRODID:-//Tango Kalender - ECPv6.15.20//NONSGML v1.0//EN
CALSCALE:GREGORIAN
METHOD:PUBLISH
X-ORIGINAL-URL:https://tango-calendar.de
X-WR-CALDESC:Veranstaltungen für Tango Kalender
REFRESH-INTERVAL;VALUE=DURATION:PT1H
X-Robots-Tag:noindex
X-PUBLISHED-TTL:PT1H
BEGIN:VTIMEZONE
TZID:Europe/Berlin
BEGIN:DAYLIGHT
TZOFFSETFROM:+0100
TZOFFSETTO:+0200
TZNAME:CEST
DTSTART:20250330T010000
END:DAYLIGHT
BEGIN:STANDARD
TZOFFSETFROM:+0200
TZOFFSETTO:+0100
TZNAME:CET
DTSTART:20251026T010000
END:STANDARD
BEGIN:DAYLIGHT
TZOFFSETFROM:+0100
TZOFFSETTO:+0200
TZNAME:CEST
DTSTART:20260329T010000
END:DAYLIGHT
BEGIN:STANDARD
TZOFFSETFROM:+0200
TZOFFSETTO:+0100
TZNAME:CET
DTSTART:20261025T010000
END:STANDARD
BEGIN:DAYLIGHT
TZOFFSETFROM:+0100
TZOFFSETTO:+0200
TZNAME:CEST
DTSTART:20270328T010000
END:DAYLIGHT
BEGIN:STANDARD
TZOFFSETFROM:+0200
TZOFFSETTO:+0100
TZNAME:CET
DTSTART:20271031T010000
END:STANDARD
END:VTIMEZONE
BEGIN:VEVENT
DTSTART;TZID=Europe/Berlin:20260304T190000
DTEND;TZID=Europe/Berlin:20260304T203000
DTSTAMP:20260424T115955
CREATED:20251129T164617Z
LAST-MODIFIED:20260318T091131Z
UID:10019930-1772650800-1772656200@tango-calendar.de
SUMMARY:Mannheim: Tauche ein in die Leidenschaft und Eleganz des Tango Argentino
DESCRIPTION:Mannheim \nTauche ein in die Leidenschaft und Eleganz des argentinischen Tangos. \nUnsere Kurse\, geleitet von den Lehrern Marianna und Daniel\, begleiten dich von den ersten Schritten bis hin zu den anspruchsvollsten Bewegungen – immer angepasst an dein Tempo und Niveau. Genieße eine warme und professionelle Atmosphäre\, in der Technik\, Musik und Verbindung zu einem einzigartigen Erlebnis verschmelzen. \nKurse an allen mittwoch  und Sonntag \n12:50-13:50 – AnfängerKurs (Sonntag)\n13:50-14:50 – Mittelstufe (Sonntag)\n19:00: 20:30 Fortgeschritten (Mittwoch) \nTanzschule Lamadé statt. (Sonntag)\nM4 7/EG\, 68161 Mannheim\nIndustriestraße 2H\, 68169 Mannheim\nGebäude der alten Tabakfabrik. (Mittwoch) \n+49 176 3421 2366\noscar.gimenez@blancoynegro.de\nMehr Informationen und Anmeldung: \nhttps://blancoynegrotango.de/Mannheim/ \nHier findest du alle Details zu Ort und Zeit in Frankfurt sowie zur Anmeldung. Melde dich an und probiere es aus! Wir freuen uns auf dich! \nWir unterstützen dein Training zu Hause mit professionellen Videos.  Hier findest du sie. Sie werden wöchentlich aktualisiert \n  \nDu kannst dich hier registrieren\, wenn du einen Tanzpartner suchst. \nLass uns gemeinsam die Magie des Tangos erleben!
URL:https://tango-calendar.de/event/mannheim-tauche-ein-in-die-leidenschaft-und-eleganz-des-tango-argentino/2026-03-04/
LOCATION:Industriestrasse 2H\, 68169 Mannheim\, Industriestrasse 2H\, 68169\, Studio Nowhere\, Germany
CATEGORIES:Kurse,Traditional
ATTACH;FMTTYPE=image/png:https://tango-calendar.de/wp-content/uploads/2025/11/Mannheim.png
ORGANIZER;CN="Blanco y Negro Tango":MAILTO:oscar@blancoynegro.de
GEO:49.5057475;8.4609298
X-APPLE-STRUCTURED-LOCATION;VALUE=URI;X-ADDRESS=Industriestrasse 2H 68169 Mannheim Industriestrasse 2H 68169 Studio Nowhere Germany;X-APPLE-RADIUS=500;X-TITLE=Industriestrasse 2H\, 68169:geo:8.4609298,49.5057475
END:VEVENT
BEGIN:VEVENT
DTSTART;TZID=Europe/Berlin:20260306T180000
DTEND;TZID=Europe/Berlin:20260306T210000
DTSTAMP:20260424T115955
CREATED:20251120T154356Z
LAST-MODIFIED:20260318T091143Z
UID:10019564-1772820000-1772830800@tango-calendar.de
SUMMARY:Worms: Tauche ein in die Leidenschaft und Eleganz des Tango Argentino.
DESCRIPTION:Worms \nTauche ein in die Leidenschaft und Eleganz des argentinischen Tangos. \nUnsere Kurse\, geleitet von den Lehrern Marianna und Daniel\, begleiten dich von den ersten Schritten bis hin zu den anspruchsvollsten Bewegungen – immer angepasst an dein Tempo und Niveau. Genieße eine warme und professionelle Atmosphäre\, in der Technik\, Musik und Verbindung zu einem einzigartigen Erlebnis verschmelzen. \nFreitag: (Gerade)19:00–20:00 Anfänger20:00–21:00 Technik21:00–22:00 Mittelstufe & Fortgeschrittene \nOrt:\n \nTango- und Kultursalon La Bohème im Kunsthaus Worms\nPrinz-Carl-Anlage 19  67547 Worms \n📞 +49 176 3421 2366📧 oscar.gimenez@blancoynegro.deℹ️ Mehr Informationen und Anmeldung: blancoynegrotango.de/Worms/ \nHier findest du alle Details zu den Locations und Zeiten in Worms und die Anmeldung. Melde dich an und teste uns. Wir freuen uns auf dich!! \nDas findest du nur bei uns: Wir unterstützen dein Training zu Hause mit professionellen Videos. Hier kannst du sie sehen. Sie werden wöchentlich aktualisiert. \nHier kannst du Marianna und Daniel auf unserer Valentinsmilonga tanzen sehen. Sie gehören zu den besten Tangotänzer der Region und sind weltweit bekannt. Auf der Weltmeisterschaft 2024 in Buenos Aires kamen sie ins Halbfinale. \nHier kannst du dich registrieren\, wenn du einen Tanzpartner/Tanzpartnerin suchst. \nLasst uns die Magie des Tangos weiter gemeinsam erleben!
URL:https://tango-calendar.de/event/worms-tauche-ein-in-die-leidenschaft-und-eleganz-des-tango-argentino-2/2026-03-06/
LOCATION:TangoSalon La Bohème\, Prinz-Carl-Anlage 19 (3.OG)\, Worms\, 67547\, Deutschland
CATEGORIES:Kurse,Traditional
ATTACH;FMTTYPE=image/png:https://tango-calendar.de/wp-content/uploads/2025/11/Worms.png
ORGANIZER;CN="Blanco y Negro Tango":MAILTO:oscar@blancoynegro.de
GEO:49.6416823;8.3623664
X-APPLE-STRUCTURED-LOCATION;VALUE=URI;X-ADDRESS=TangoSalon La Bohème Prinz-Carl-Anlage 19 (3.OG) Worms 67547 Deutschland;X-APPLE-RADIUS=500;X-TITLE=Prinz-Carl-Anlage 19 (3.OG):geo:8.3623664,49.6416823
END:VEVENT
BEGIN:VEVENT
DTSTART;TZID=Europe/Berlin:20260306T180000
DTEND;TZID=Europe/Berlin:20260308T170000
DTSTAMP:20260424T115955
CREATED:20260304T114830Z
LAST-MODIFIED:20260304T114830Z
UID:10021519-1772820000-1772989200@tango-calendar.de
SUMMARY:FEMENINA Wochenende Wiesbaden
DESCRIPTION:Lady’s Tango Festival 2026 by Johana Copes\nDiese Veranstaltung wird von TangoNJ organisiert und findet am Wochenende vom 6. bis 8. März statt. \nFEMENINA Weekend @ powered by Lady’s Tango Festival\nWiesbaden · 6.–8. März 2026 \nDas FEMENINA Weekend ist ein Seminarformat speziell für Frauen – ein Raum für persönliche Ausdruckskraft\, Bewusstsein und Präsenz innerhalb der Umarmung im Tango. \nIm Zentrum steht ein 6-stündiges Seminar zu Verzierungen als musikalischem Ausdruck. Wir erforschen\, wie Melodie\, Dynamik und Rhythmus im eigenen Körper sichtbar und spürbar werden. Die Arbeit erfolgt ohne Tanzpartner\, jedoch stets mit Bewusstsein für das Gegenüber und die Umarmung. \nDieses Wochenende ist Teil unserer Zusammenarbeit mit dem Lady’s Tango Festival 2026 by Johana Copes in Buenos Aires. \n  \nSeminar: Verzierungen & Bewegungsstil im Tango\nmit Natalia Beráscola \nDieses Seminar ist speziell für Frauen konzipiert. Die Arbeit erfolgt ohne Tanzpartner\, jedoch stets mit Bewusstsein für die Umarmung im Tango und das Gegenüber. \nIn diesem Seminar widmen wir uns der bewussten Gestaltung von Verzierungen und Schritte als musikalischem Ausdruck im Tango. Der Körper wird zum Instrument\, das Melodie\, Dynamik und Rhythmus sichtbar und spürbar macht. \nWir erforschen\, wie sich Qualität\, Energie und Präsenz entfalten – immer integriert in die Umarmung. \nEin intensives Training für mehr Klarheit\, Feinheit und persönliche Ausdruckskraft im Tanz. \nJe 2 Stunden Schwerpunkt:\n\nMelodischer Ausdruck Freitag\, 6. März von 18:00 bis 20:00 Uhr\nDynamischer Ausdruck Samstag\, 7. März von 13:00 bis 15:00 Uhr\nRhythmischer Ausdruck Sonntag\, 8. März von 13:00 bis 15:00 Uhr\n\nPreis: 120 €/ Person (100€ für TangoNJ Mitglieder) \n  \nWORKSHOP „High Heels Performance“\nmit Jeanette Dumiec \nSamstag\, 7. März um 15:30 Uhr bis 17:00 \nWORKSHOP „Bauchtanz“\nmit Lana Hamati \nSonntag\, 8. März 15:30 bis 17:00 Uhr \n  \nAnmeldung und mehr info: FEMINA Wochenende Wiesbaden – tangonj \n 
URL:https://tango-calendar.de/event/femenina-wochenende-wiesbaden/
LOCATION:Tango NJ Wiesbaden\, Walluferstraße 1\, Wiesbaden\, Hessen\, 65197\, Germany
CATEGORIES:Festival,Workshop
ATTACH;FMTTYPE=image/jpeg:https://tango-calendar.de/wp-content/uploads/2026/03/Natalia.jpg
ORGANIZER;CN="Tango NJ":MAILTO:kontakt@tangonj.de
GEO:50.0843808;8.2080971
X-APPLE-STRUCTURED-LOCATION;VALUE=URI;X-ADDRESS=Tango NJ Wiesbaden Walluferstraße 1 Wiesbaden Hessen 65197 Germany;X-APPLE-RADIUS=500;X-TITLE=Walluferstraße 1:geo:8.2080971,50.0843808
END:VEVENT
BEGIN:VEVENT
DTSTART;TZID=Europe/Berlin:20260308T130000
DTEND;TZID=Europe/Berlin:20260308T153000
DTSTAMP:20260424T115955
CREATED:20260218T180142Z
LAST-MODIFIED:20260218T180142Z
UID:10021439-1772974800-1772983800@tango-calendar.de
SUMMARY:“Quer durch die Epochen der Tangomusik – Miguel Caló” Workshop mit Ricardo El Holandés
DESCRIPTION:Die größten Tango-Orchester und ihre Geschichte(n)\n\nEin Mix aus Tanz und Vortrag:\nRicardo\, der 13 Jahre in Buenos Aires gelebt hat\, teilt in diesen Workshops seine persönlichen Erfahrungen und Erinnerungen an viele der alten Sänger und Musiker\, die er selbst noch erleben durfte. Auf seine ganz besondere Art erfahren wir kein technisches oder analytisches Kennenlernen der Musik\, sondern begeben uns auf eine emotionale Reise\, die dazu einlädt\, die Musik intensiver zu hören und zu erleben. Ganz nebenbei werden wir auch lernen\, einige Texte zu verstehen und charakteristische Merkmale den verschiedenen Epochen zuzuordnen.\nZwischen den Erzählungen tanzen wir zu ausgewählten Stücken\, ganz im Stil des vorgestellten Orchesters: “Miguel Caló”\n\nÜber uns\nUns alle drei – Ricardo\, Stefanie und Maximiliano – verbindet die große Liebe zum Tango und seiner Musik. Mit unseren Seminaren möchten wir einen Beitrag leisten\, dass Musik und Geschichte des Tango als lebendige Teile unserer Kultur erhalten und weitergetragen werden.\nUnd in unseren Augen kann das niemand besser und schöner als Ricardo!\nEin MUSS für Tango-DJs und Tänzer*innen aller Niveaus.\n\n\n\nWir bitten um Anmeldung unter yuyoverdetango@gmail.com!Bitte rechtzeitig da sein\, wir beginnen pünktlich! 🙂
URL:https://tango-calendar.de/event/quer-durch-die-epochen-der-tangomusik-miguel-calo-workshop-mit-ricardo-el-holandes/
LOCATION:Salsa-Tanzschule Conexion\, Am Industriehof 7\, Frankfurt am Main\, Hessen\, 60487\, Germany
CATEGORIES:Workshop
ORGANIZER;CN="Yuyo Verde Tango":MAILTO:Yuyoverdetango@gmail.com
GEO:50.128966;8.6241751
X-APPLE-STRUCTURED-LOCATION;VALUE=URI;X-ADDRESS=Salsa-Tanzschule Conexion Am Industriehof 7 Frankfurt am Main Hessen 60487 Germany;X-APPLE-RADIUS=500;X-TITLE=Am Industriehof 7:geo:8.6241751,50.128966
END:VEVENT
BEGIN:VEVENT
DTSTART;TZID=Europe/Berlin:20260311T190000
DTEND;TZID=Europe/Berlin:20260311T203000
DTSTAMP:20260424T115956
CREATED:20251129T164617Z
LAST-MODIFIED:20260318T091131Z
UID:10019931-1773255600-1773261000@tango-calendar.de
SUMMARY:Mannheim: Tauche ein in die Leidenschaft und Eleganz des Tango Argentino
DESCRIPTION:Mannheim \nTauche ein in die Leidenschaft und Eleganz des argentinischen Tangos. \nUnsere Kurse\, geleitet von den Lehrern Marianna und Daniel\, begleiten dich von den ersten Schritten bis hin zu den anspruchsvollsten Bewegungen – immer angepasst an dein Tempo und Niveau. Genieße eine warme und professionelle Atmosphäre\, in der Technik\, Musik und Verbindung zu einem einzigartigen Erlebnis verschmelzen. \nKurse an allen mittwoch  und Sonntag \n12:50-13:50 – AnfängerKurs (Sonntag)\n13:50-14:50 – Mittelstufe (Sonntag)\n19:00: 20:30 Fortgeschritten (Mittwoch) \nTanzschule Lamadé statt. (Sonntag)\nM4 7/EG\, 68161 Mannheim\nIndustriestraße 2H\, 68169 Mannheim\nGebäude der alten Tabakfabrik. (Mittwoch) \n+49 176 3421 2366\noscar.gimenez@blancoynegro.de\nMehr Informationen und Anmeldung: \nhttps://blancoynegrotango.de/Mannheim/ \nHier findest du alle Details zu Ort und Zeit in Frankfurt sowie zur Anmeldung. Melde dich an und probiere es aus! Wir freuen uns auf dich! \nWir unterstützen dein Training zu Hause mit professionellen Videos.  Hier findest du sie. Sie werden wöchentlich aktualisiert \n  \nDu kannst dich hier registrieren\, wenn du einen Tanzpartner suchst. \nLass uns gemeinsam die Magie des Tangos erleben!
URL:https://tango-calendar.de/event/mannheim-tauche-ein-in-die-leidenschaft-und-eleganz-des-tango-argentino/2026-03-11/
LOCATION:Industriestrasse 2H\, 68169 Mannheim\, Industriestrasse 2H\, 68169\, Studio Nowhere\, Germany
CATEGORIES:Kurse,Traditional
ATTACH;FMTTYPE=image/png:https://tango-calendar.de/wp-content/uploads/2025/11/Mannheim.png
ORGANIZER;CN="Blanco y Negro Tango":MAILTO:oscar@blancoynegro.de
GEO:49.5057475;8.4609298
X-APPLE-STRUCTURED-LOCATION;VALUE=URI;X-ADDRESS=Industriestrasse 2H 68169 Mannheim Industriestrasse 2H 68169 Studio Nowhere Germany;X-APPLE-RADIUS=500;X-TITLE=Industriestrasse 2H\, 68169:geo:8.4609298,49.5057475
END:VEVENT
BEGIN:VEVENT
DTSTART;TZID=Europe/Berlin:20260313T190000
DTEND;TZID=Europe/Berlin:20260313T220000
DTSTAMP:20260424T115956
CREATED:20251120T154353Z
LAST-MODIFIED:20251120T154353Z
UID:10019545-1773428400-1773439200@tango-calendar.de
SUMMARY:Hofheim: Tauche ein in die Leidenschaft und Eleganz des Tango Argentino.
DESCRIPTION:Hofheim \nTauche ein in die Leidenschaft und Eleganz des argentinischen Tangos. \nUnsere Kurse\, geleitet von den Lehrern Marianna und Daniel\, begleiten dich von den ersten Schritten bis hin zu den anspruchsvollsten Bewegungen – immer angepasst an dein Tempo und Niveau. Genieße eine warme und professionelle Atmosphäre\, in der Technik\, Musik und Verbindung zu einem einzigartigen Erlebnis verschmelzen. \nFreitag (ungerade)19:00–20:00 Anfänger20:00–21:00 Technik21:00–22:00 Mittelstufe & Fortgeschrittene \nOrt:\nSchönbornsaal\nBurgstrasse 28\, 65719 Hofheim am Taunus \n📞 +49 176 3421 2366📧 oscar.gimenez@blancoynegro.deℹ️ Mehr Informationen und Anmeldung: blancoynegrotango.de/hofheim/ \nHier findest du alle Details zu den Locations und Zeiten in Hofheim und die Anmeldung. Melde dich an und teste uns. Wir freuen uns auf dich!! \nDas findest du nur bei uns: Wir unterstützen dein Training zu Hause mit professionellen Videos. Hier kannst du sie sehen. Sie werden wöchentlich aktualisiert. \nHier kannst du Marianna und Daniel auf unserer Valentinsmilonga tanzen sehen. Sie gehören zu den besten Tangotänzer der Region und sind weltweit bekannt. Auf der Weltmeisterschaft 2024 in Buenos Aires kamen sie ins Halbfinale. \nHier kannst du dich registrieren\, wenn du einen Tanzpartner/Tanzpartnerin suchst. \nLasst uns die Magie des Tangos weiter gemeinsam erleben!
URL:https://tango-calendar.de/event/hofheim-tauche-ein-in-die-leidenschaft-und-eleganz-des-tango-argentino-2/2026-03-13/
LOCATION:Blanco y negro tango hofheim\, Schönbornsaal im Kellereigebäude. Burgstrasse 28\, 65719 Hofheim am Taunus\, Schönbornsaal im Kellereigebäude. Burgstrasse 28\, 65719 Hofheim am Taunus\, Germany
CATEGORIES:Kurse,Traditional
ATTACH;FMTTYPE=image/png:https://tango-calendar.de/wp-content/uploads/2025/11/Hofheim.png
ORGANIZER;CN="Blanco y Negro Tango":MAILTO:oscar@blancoynegro.de
GEO:49.6416422;8.36214
X-APPLE-STRUCTURED-LOCATION;VALUE=URI;X-ADDRESS=Blanco y negro tango hofheim Schönbornsaal im Kellereigebäude. Burgstrasse 28 65719 Hofheim am Taunus Schönbornsaal im Kellereigebäude. Burgstrasse 28 65719 Hofheim am Taunus Germany;X-APPLE-RADIUS=500;X-TITLE=Schönbornsaal im Kellereigebäude. Burgstrasse 28\, 65719 Hofheim am Taunus:geo:8.36214,49.6416422
END:VEVENT
BEGIN:VEVENT
DTSTART;TZID=Europe/Berlin:20260318T190000
DTEND;TZID=Europe/Berlin:20260318T203000
DTSTAMP:20260424T115956
CREATED:20251129T164617Z
LAST-MODIFIED:20260318T091131Z
UID:10019932-1773860400-1773865800@tango-calendar.de
SUMMARY:Mannheim: Tauche ein in die Leidenschaft und Eleganz des Tango Argentino
DESCRIPTION:Mannheim \nTauche ein in die Leidenschaft und Eleganz des argentinischen Tangos. \nUnsere Kurse\, geleitet von den Lehrern Marianna und Daniel\, begleiten dich von den ersten Schritten bis hin zu den anspruchsvollsten Bewegungen – immer angepasst an dein Tempo und Niveau. Genieße eine warme und professionelle Atmosphäre\, in der Technik\, Musik und Verbindung zu einem einzigartigen Erlebnis verschmelzen. \nKurse an allen mittwoch  und Sonntag \n12:50-13:50 – AnfängerKurs (Sonntag)\n13:50-14:50 – Mittelstufe (Sonntag)\n19:00: 20:30 Fortgeschritten (Mittwoch) \nTanzschule Lamadé statt. (Sonntag)\nM4 7/EG\, 68161 Mannheim\nIndustriestraße 2H\, 68169 Mannheim\nGebäude der alten Tabakfabrik. (Mittwoch) \n+49 176 3421 2366\noscar.gimenez@blancoynegro.de\nMehr Informationen und Anmeldung: \nhttps://blancoynegrotango.de/Mannheim/ \nHier findest du alle Details zu Ort und Zeit in Frankfurt sowie zur Anmeldung. Melde dich an und probiere es aus! Wir freuen uns auf dich! \nWir unterstützen dein Training zu Hause mit professionellen Videos.  Hier findest du sie. Sie werden wöchentlich aktualisiert \n  \nDu kannst dich hier registrieren\, wenn du einen Tanzpartner suchst. \nLass uns gemeinsam die Magie des Tangos erleben!
URL:https://tango-calendar.de/event/mannheim-tauche-ein-in-die-leidenschaft-und-eleganz-des-tango-argentino/2026-03-18/
LOCATION:Industriestrasse 2H\, 68169 Mannheim\, Industriestrasse 2H\, 68169\, Studio Nowhere\, Germany
CATEGORIES:Kurse,Traditional
ATTACH;FMTTYPE=image/png:https://tango-calendar.de/wp-content/uploads/2025/11/Mannheim.png
ORGANIZER;CN="Blanco y Negro Tango":MAILTO:oscar@blancoynegro.de
GEO:49.5057475;8.4609298
X-APPLE-STRUCTURED-LOCATION;VALUE=URI;X-ADDRESS=Industriestrasse 2H 68169 Mannheim Industriestrasse 2H 68169 Studio Nowhere Germany;X-APPLE-RADIUS=500;X-TITLE=Industriestrasse 2H\, 68169:geo:8.4609298,49.5057475
END:VEVENT
BEGIN:VEVENT
DTSTART;TZID=Europe/Berlin:20260320T080000
DTEND;TZID=Europe/Berlin:20260320T170000
DTSTAMP:20260424T115956
CREATED:20251120T154356Z
LAST-MODIFIED:20260318T091143Z
UID:10019565-1773993600-1774026000@tango-calendar.de
SUMMARY:Worms: Tauche ein in die Leidenschaft und Eleganz des Tango Argentino.
DESCRIPTION:Worms \nTauche ein in die Leidenschaft und Eleganz des argentinischen Tangos. \nUnsere Kurse\, geleitet von den Lehrern Marianna und Daniel\, begleiten dich von den ersten Schritten bis hin zu den anspruchsvollsten Bewegungen – immer angepasst an dein Tempo und Niveau. Genieße eine warme und professionelle Atmosphäre\, in der Technik\, Musik und Verbindung zu einem einzigartigen Erlebnis verschmelzen. \nFreitag: (Gerade)19:00–20:00 Anfänger20:00–21:00 Technik21:00–22:00 Mittelstufe & Fortgeschrittene \nOrt:\n \nTango- und Kultursalon La Bohème im Kunsthaus Worms\nPrinz-Carl-Anlage 19  67547 Worms \n📞 +49 176 3421 2366📧 oscar.gimenez@blancoynegro.deℹ️ Mehr Informationen und Anmeldung: blancoynegrotango.de/Worms/ \nHier findest du alle Details zu den Locations und Zeiten in Worms und die Anmeldung. Melde dich an und teste uns. Wir freuen uns auf dich!! \nDas findest du nur bei uns: Wir unterstützen dein Training zu Hause mit professionellen Videos. Hier kannst du sie sehen. Sie werden wöchentlich aktualisiert. \nHier kannst du Marianna und Daniel auf unserer Valentinsmilonga tanzen sehen. Sie gehören zu den besten Tangotänzer der Region und sind weltweit bekannt. Auf der Weltmeisterschaft 2024 in Buenos Aires kamen sie ins Halbfinale. \nHier kannst du dich registrieren\, wenn du einen Tanzpartner/Tanzpartnerin suchst. \nLasst uns die Magie des Tangos weiter gemeinsam erleben!
URL:https://tango-calendar.de/event/worms-tauche-ein-in-die-leidenschaft-und-eleganz-des-tango-argentino-2/2026-03-20/
LOCATION:TangoSalon La Bohème\, Prinz-Carl-Anlage 19 (3.OG)\, Worms\, 67547\, Deutschland
CATEGORIES:Kurse,Traditional
ATTACH;FMTTYPE=image/png:https://tango-calendar.de/wp-content/uploads/2025/11/Worms.png
ORGANIZER;CN="Blanco y Negro Tango":MAILTO:oscar@blancoynegro.de
GEO:49.6416823;8.3623664
X-APPLE-STRUCTURED-LOCATION;VALUE=URI;X-ADDRESS=TangoSalon La Bohème Prinz-Carl-Anlage 19 (3.OG) Worms 67547 Deutschland;X-APPLE-RADIUS=500;X-TITLE=Prinz-Carl-Anlage 19 (3.OG):geo:8.3623664,49.6416823
END:VEVENT
BEGIN:VEVENT
DTSTART;TZID=Europe/Berlin:20260322T143000
DTEND;TZID=Europe/Berlin:20260329T163000
DTSTAMP:20260424T115956
CREATED:20260111T191135Z
LAST-MODIFIED:20260111T191135Z
UID:10021025-1774189800-1774801800@tango-calendar.de
SUMMARY:Tango Anfänger Workshop
DESCRIPTION:Tango Argentino – Schnupper-Workshop für Anfänger \nDu bist neugierig auf Tango Argentino und möchtest einfach mal reinschnuppern?In diesem 3-stündigen Anfänger-Workshop bekommst du einen ersten Eindruck von diesem besonderen Tanz voller Musik\, Verbindung und Gefühl. \nGanz ohne Vorkenntnisse lernst du: \n\n\neinfache Grundbewegungen \n\n\nerste Schritte im Führen & Folgen \n\n\nein Gefühl für Musik\, Umarmung und Miteinander \n\n\nDer Workshop ist ideal\, um auszuprobieren\, ob Tango Argentino etwas für dich ist – ohne Verpflichtung und in entspannter Atmosphäre. \nOb alleine oder als Paar: Du bist herzlich willkommen.Neugier genügt! \nLass dich von der Musik berühren\, erlebe die besondere Verbindung im Tanz und finde heraus\, ob Tango dein Weg ist. \nWir freuen uns auf dich!
URL:https://tango-calendar.de/event/tango-anfaenger-workshop/
LOCATION:Bürgerhaus Weiskirchen\, Schillerstr. 27\, 63110 Rodgau\, Bürgerhaus Weiskirchen\, Schillerstr. 27\, Rodgau\, 63110\, Select a Country:
CATEGORIES:Traditional,Workshop
ATTACH;FMTTYPE=image/jpeg:https://tango-calendar.de/wp-content/uploads/2026/01/AdobeStock_436338167-1-scaled.jpeg
GEO:50.050304;8.888202
X-APPLE-STRUCTURED-LOCATION;VALUE=URI;X-ADDRESS=Bürgerhaus Weiskirchen Schillerstr. 27 63110 Rodgau Bürgerhaus Weiskirchen Schillerstr. 27 Rodgau 63110 Select a Country:;X-APPLE-RADIUS=500;X-TITLE=Bürgerhaus Weiskirchen\, Schillerstr. 27:geo:8.888202,50.050304
END:VEVENT
BEGIN:VEVENT
DTSTART;TZID=Europe/Berlin:20260323T120000
DTEND;TZID=Europe/Berlin:20260330T210000
DTSTAMP:20260424T115956
CREATED:20260309T061441Z
LAST-MODIFIED:20260309T061441Z
UID:10021520-1774267200-1774904400@tango-calendar.de
SUMMARY:Einzelstunden mit Amira Cámpora 23.-30. März in Frankfurt Area
DESCRIPTION:Hallo Liebe Tangueros & Tangueras von Hessen! \nBin ich auf Tournée in Europa bis Di 31. März\, werde von Mo 23. bis Mo 30. März in Frankfurt Area um Einzelstunden zu geben! \nNach Vereinbarung. Freue mich !
URL:https://tango-calendar.de/event/einzelstunden-mit-amira-campora-23-30-maerz-in-frankfurt-area/
CATEGORIES:Kurse
ATTACH;FMTTYPE=image/jpeg:https://tango-calendar.de/wp-content/uploads/2026/03/IMG_1166.jpeg
END:VEVENT
BEGIN:VEVENT
DTSTART;TZID=Europe/Berlin:20260325T160000
DTEND;TZID=Europe/Berlin:20260325T164500
DTSTAMP:20260424T115956
CREATED:20260330T135940Z
LAST-MODIFIED:20260330T135940Z
UID:10021578-1774454400-1774457100@tango-calendar.de
SUMMARY:Workshop Tango DJ mit Gabriel Sodini
DESCRIPTION:Neu im Tango Wunderland … aufbauend auf das Seminar geht es für Tango DJs und solche\, die es vielleicht werden möchten\, weiter und noch tiefer in die Wellt der Tangomusik.  \nLerne von Gabi die Magie des Tangos zu erforschen und für deine Gäste erlebbar zu machen. \nKursinhalt \nEinführung\, Entwicklung. Gestaltung von Tangos\, Orchesterbesetzungen\, Übergänge\, Klangbalance und musikalischen Konzepten für Milongas\, Marathons und Festivals. \nDu kannst dabei von über 25  Jahren DJ-Erfahrung profitieren. \n30\,00 € / Pers. Bei Buchung Seminar und Clase TDJ für beide Kurse 50\,00 €
URL:https://tango-calendar.de/event/workshop-tango-dj-mit-gabriel-sodini/
CATEGORIES:Workshop
ATTACH;FMTTYPE=image/jpeg:https://tango-calendar.de/wp-content/uploads/2026/03/Gabi-1.jpg
END:VEVENT
BEGIN:VEVENT
DTSTART;TZID=Europe/Berlin:20260325T190000
DTEND;TZID=Europe/Berlin:20260325T203000
DTSTAMP:20260424T115956
CREATED:20251129T164617Z
LAST-MODIFIED:20260318T091131Z
UID:10019933-1774465200-1774470600@tango-calendar.de
SUMMARY:Mannheim: Tauche ein in die Leidenschaft und Eleganz des Tango Argentino
DESCRIPTION:Mannheim \nTauche ein in die Leidenschaft und Eleganz des argentinischen Tangos. \nUnsere Kurse\, geleitet von den Lehrern Marianna und Daniel\, begleiten dich von den ersten Schritten bis hin zu den anspruchsvollsten Bewegungen – immer angepasst an dein Tempo und Niveau. Genieße eine warme und professionelle Atmosphäre\, in der Technik\, Musik und Verbindung zu einem einzigartigen Erlebnis verschmelzen. \nKurse an allen mittwoch  und Sonntag \n12:50-13:50 – AnfängerKurs (Sonntag)\n13:50-14:50 – Mittelstufe (Sonntag)\n19:00: 20:30 Fortgeschritten (Mittwoch) \nTanzschule Lamadé statt. (Sonntag)\nM4 7/EG\, 68161 Mannheim\nIndustriestraße 2H\, 68169 Mannheim\nGebäude der alten Tabakfabrik. (Mittwoch) \n+49 176 3421 2366\noscar.gimenez@blancoynegro.de\nMehr Informationen und Anmeldung: \nhttps://blancoynegrotango.de/Mannheim/ \nHier findest du alle Details zu Ort und Zeit in Frankfurt sowie zur Anmeldung. Melde dich an und probiere es aus! Wir freuen uns auf dich! \nWir unterstützen dein Training zu Hause mit professionellen Videos.  Hier findest du sie. Sie werden wöchentlich aktualisiert \n  \nDu kannst dich hier registrieren\, wenn du einen Tanzpartner suchst. \nLass uns gemeinsam die Magie des Tangos erleben!
URL:https://tango-calendar.de/event/mannheim-tauche-ein-in-die-leidenschaft-und-eleganz-des-tango-argentino/2026-03-25/
LOCATION:Industriestrasse 2H\, 68169 Mannheim\, Industriestrasse 2H\, 68169\, Studio Nowhere\, Germany
CATEGORIES:Kurse,Traditional
ATTACH;FMTTYPE=image/png:https://tango-calendar.de/wp-content/uploads/2025/11/Mannheim.png
ORGANIZER;CN="Blanco y Negro Tango":MAILTO:oscar@blancoynegro.de
GEO:49.5057475;8.4609298
X-APPLE-STRUCTURED-LOCATION;VALUE=URI;X-ADDRESS=Industriestrasse 2H 68169 Mannheim Industriestrasse 2H 68169 Studio Nowhere Germany;X-APPLE-RADIUS=500;X-TITLE=Industriestrasse 2H\, 68169:geo:8.4609298,49.5057475
END:VEVENT
BEGIN:VEVENT
DTSTART;TZID=Europe/Berlin:20260327T190000
DTEND;TZID=Europe/Berlin:20260327T220000
DTSTAMP:20260424T115956
CREATED:20251120T154353Z
LAST-MODIFIED:20251120T154353Z
UID:10019546-1774638000-1774648800@tango-calendar.de
SUMMARY:Hofheim: Tauche ein in die Leidenschaft und Eleganz des Tango Argentino.
DESCRIPTION:Hofheim \nTauche ein in die Leidenschaft und Eleganz des argentinischen Tangos. \nUnsere Kurse\, geleitet von den Lehrern Marianna und Daniel\, begleiten dich von den ersten Schritten bis hin zu den anspruchsvollsten Bewegungen – immer angepasst an dein Tempo und Niveau. Genieße eine warme und professionelle Atmosphäre\, in der Technik\, Musik und Verbindung zu einem einzigartigen Erlebnis verschmelzen. \nFreitag (ungerade)19:00–20:00 Anfänger20:00–21:00 Technik21:00–22:00 Mittelstufe & Fortgeschrittene \nOrt:\nSchönbornsaal\nBurgstrasse 28\, 65719 Hofheim am Taunus \n📞 +49 176 3421 2366📧 oscar.gimenez@blancoynegro.deℹ️ Mehr Informationen und Anmeldung: blancoynegrotango.de/hofheim/ \nHier findest du alle Details zu den Locations und Zeiten in Hofheim und die Anmeldung. Melde dich an und teste uns. Wir freuen uns auf dich!! \nDas findest du nur bei uns: Wir unterstützen dein Training zu Hause mit professionellen Videos. Hier kannst du sie sehen. Sie werden wöchentlich aktualisiert. \nHier kannst du Marianna und Daniel auf unserer Valentinsmilonga tanzen sehen. Sie gehören zu den besten Tangotänzer der Region und sind weltweit bekannt. Auf der Weltmeisterschaft 2024 in Buenos Aires kamen sie ins Halbfinale. \nHier kannst du dich registrieren\, wenn du einen Tanzpartner/Tanzpartnerin suchst. \nLasst uns die Magie des Tangos weiter gemeinsam erleben!
URL:https://tango-calendar.de/event/hofheim-tauche-ein-in-die-leidenschaft-und-eleganz-des-tango-argentino-2/2026-03-27/
LOCATION:Blanco y negro tango hofheim\, Schönbornsaal im Kellereigebäude. Burgstrasse 28\, 65719 Hofheim am Taunus\, Schönbornsaal im Kellereigebäude. Burgstrasse 28\, 65719 Hofheim am Taunus\, Germany
CATEGORIES:Kurse,Traditional
ATTACH;FMTTYPE=image/png:https://tango-calendar.de/wp-content/uploads/2025/11/Hofheim.png
ORGANIZER;CN="Blanco y Negro Tango":MAILTO:oscar@blancoynegro.de
GEO:49.6416422;8.36214
X-APPLE-STRUCTURED-LOCATION;VALUE=URI;X-ADDRESS=Blanco y negro tango hofheim Schönbornsaal im Kellereigebäude. Burgstrasse 28 65719 Hofheim am Taunus Schönbornsaal im Kellereigebäude. Burgstrasse 28 65719 Hofheim am Taunus Germany;X-APPLE-RADIUS=500;X-TITLE=Schönbornsaal im Kellereigebäude. Burgstrasse 28\, 65719 Hofheim am Taunus:geo:8.36214,49.6416422
END:VEVENT
BEGIN:VEVENT
DTSTART;TZID=Europe/Berlin:20260328T143000
DTEND;TZID=Europe/Berlin:20260328T170000
DTSTAMP:20260424T115956
CREATED:20260304T114857Z
LAST-MODIFIED:20260304T114857Z
UID:10021471-1774708200-1774717200@tango-calendar.de
SUMMARY:Milonga Intensive Workshop
DESCRIPTION:Let’s learn more about dancing milonga! This intensive workshop is suitable for intermediate/advance levels. We will work on some popular milonga movements\, as well as improving musicality and flow for milonga Traspie.  \nPrice:\n€35 One person\n60€ Couples\n\nYou can come alone or with a partner.\n\nLet’s dance the Milonga!\n\nAfter the workshop (5:30 p.m.)\, a few of the students and I will stay to have a tango community dinner at Sombrero. If you’d like to also join us for dinner\, let me know! We each pay individually for dinner so you can choose what you’d like from the whole menu.
URL:https://tango-calendar.de/event/milonga-intensive-workshop/
LOCATION:Sombrero Latino\, Adolfstraße 3\, Wiesbaden\, Hessen\, 65185\, Deutschland
CATEGORIES:Kurse,Traditional,Workshop
ATTACH;FMTTYPE=image/png:https://tango-calendar.de/wp-content/uploads/2026/02/WORKSHOP-7.png
ORGANIZER;CN="Sepideh Saeb":MAILTO:ssaebeass@gmail.com
GEO:50.0768625;8.2396374
X-APPLE-STRUCTURED-LOCATION;VALUE=URI;X-ADDRESS=Sombrero Latino Adolfstraße 3 Wiesbaden Hessen 65185 Deutschland;X-APPLE-RADIUS=500;X-TITLE=Adolfstraße 3:geo:8.2396374,50.0768625
END:VEVENT
END:VCALENDAR