BEGIN:VCALENDAR
VERSION:2.0
PRODID:-//Tango Kalender - ECPv6.15.20//NONSGML v1.0//EN
CALSCALE:GREGORIAN
METHOD:PUBLISH
X-WR-CALNAME:Tango Kalender
X-ORIGINAL-URL:https://tango-calendar.de
X-WR-CALDESC:Veranstaltungen für Tango Kalender
REFRESH-INTERVAL;VALUE=DURATION:PT1H
X-Robots-Tag:noindex
X-PUBLISHED-TTL:PT1H
BEGIN:VTIMEZONE
TZID:Europe/Berlin
BEGIN:DAYLIGHT
TZOFFSETFROM:+0100
TZOFFSETTO:+0200
TZNAME:CEST
DTSTART:20250330T010000
END:DAYLIGHT
BEGIN:STANDARD
TZOFFSETFROM:+0200
TZOFFSETTO:+0100
TZNAME:CET
DTSTART:20251026T010000
END:STANDARD
BEGIN:DAYLIGHT
TZOFFSETFROM:+0100
TZOFFSETTO:+0200
TZNAME:CEST
DTSTART:20260329T010000
END:DAYLIGHT
BEGIN:STANDARD
TZOFFSETFROM:+0200
TZOFFSETTO:+0100
TZNAME:CET
DTSTART:20261025T010000
END:STANDARD
BEGIN:DAYLIGHT
TZOFFSETFROM:+0100
TZOFFSETTO:+0200
TZNAME:CEST
DTSTART:20270328T010000
END:DAYLIGHT
BEGIN:STANDARD
TZOFFSETFROM:+0200
TZOFFSETTO:+0100
TZNAME:CET
DTSTART:20271031T010000
END:STANDARD
END:VTIMEZONE
BEGIN:VEVENT
DTSTART;TZID=Europe/Berlin:20260430T200000
DTEND;TZID=Europe/Berlin:20260501T010000
DTSTAMP:20260425T195957
CREATED:20260330T140048Z
LAST-MODIFIED:20260330T140048Z
UID:10021603-1777579200-1777597200@tango-calendar.de
SUMMARY:30.4.2026 Tangokonzert und Milonga mit Tango Marcando
DESCRIPTION:Das Ensemble Tango Marcando präsentiert Musik aus hundert Jahren Tango-Geschichte und setzt dessen einzigartige Emotionalität virtuos in Szene. Mit musikalischem Feinsinn bringt das Orchester die ganze Tiefe und Leidenschaft des Tangos auf die Bühne und knüpft in der Besetzung mit Streichern\, Bandoneon\, Klavier und Kontrabass an die Tradition der historischen „orquesta típica“ aus Buenos Aires an. \nDas Ensemble lässt anhand von Original-Arrangements stilsicher die musikalischen Kontraste und Klangfarben des Tango Argentino der Goldenen Ära der 40er und 50er Jahre aufleben und widmet sich darüber hinaus auch zeitgenössischen Kompositionen sowie dem Tango Nuevo von Astor Piazzolla. \nDie Sängerin Jezebel (Foto unten)\, früheres Ensemblemitglied am Theater Bukarest\, stand weltweit auf zahlreichen Bühnen und fasziniert mit ihrer tiefen\, berührenden Stimme\, mit der sie Geschichten von Leidenschaft\, Sehnsucht und Hoffnung erzählt. \nIm Anschluss an das Konzert lädt Tango Marcando ab ca. 21:30 Uhr zu einer Milonga ein\, in der alle tanzbegeisterten Tangueros/Tangueras zu Live-Musik tanzen können. Im Wechsel dazu legt der bekannte Heidelberger Tango-DJ Michael Arlt stimmungsvoll aufgebaute und wunderbar tanzbare Tandas auf. \n\n\n\nClaudia Louise Weigand Violine | Georg Lehr Violoncello | Norbert Kotzan Bandoneon\nMargarete Schurmann-Spengler Piano | Kai Spengler Kontrabass | Jezebel [Izabela Barbu] Gesang \nWebsite Tango Marcando \nKarten reservieren \nKarten kaufen & ausdrucken \nVeranstalter: Kulturzentrum Bessunger Knabenschule in Darmstadt
URL:https://tango-calendar.de/event/30-4-2026-tangokonzert-und-milonga-mit-tango-marcando/
LOCATION:Bessunger Knabenschule Darmstadt\, Ludwigshöhstraße 42\, Darmstadt\, 64285
CATEGORIES:Live Musik,Milonga
ATTACH;FMTTYPE=image/jpeg:https://tango-calendar.de/wp-content/uploads/2026/03/7720.jpg
GEO:49.8537341;8.656811
X-APPLE-STRUCTURED-LOCATION;VALUE=URI;X-ADDRESS=Bessunger Knabenschule Darmstadt Ludwigshöhstraße 42 Darmstadt 64285;X-APPLE-RADIUS=500;X-TITLE=Ludwigshöhstraße 42:geo:8.656811,49.8537341
END:VEVENT
END:VCALENDAR