BEGIN:VCALENDAR
VERSION:2.0
PRODID:-//Tango Kalender - ECPv6.15.20//NONSGML v1.0//EN
CALSCALE:GREGORIAN
METHOD:PUBLISH
X-WR-CALNAME:Tango Kalender
X-ORIGINAL-URL:https://tango-calendar.de
X-WR-CALDESC:Veranstaltungen für Tango Kalender
REFRESH-INTERVAL;VALUE=DURATION:PT1H
X-Robots-Tag:noindex
X-PUBLISHED-TTL:PT1H
BEGIN:VTIMEZONE
TZID:Europe/Berlin
BEGIN:DAYLIGHT
TZOFFSETFROM:+0100
TZOFFSETTO:+0200
TZNAME:CEST
DTSTART:20250330T010000
END:DAYLIGHT
BEGIN:STANDARD
TZOFFSETFROM:+0200
TZOFFSETTO:+0100
TZNAME:CET
DTSTART:20251026T010000
END:STANDARD
BEGIN:DAYLIGHT
TZOFFSETFROM:+0100
TZOFFSETTO:+0200
TZNAME:CEST
DTSTART:20260329T010000
END:DAYLIGHT
BEGIN:STANDARD
TZOFFSETFROM:+0200
TZOFFSETTO:+0100
TZNAME:CET
DTSTART:20261025T010000
END:STANDARD
BEGIN:DAYLIGHT
TZOFFSETFROM:+0100
TZOFFSETTO:+0200
TZNAME:CEST
DTSTART:20270328T010000
END:DAYLIGHT
BEGIN:STANDARD
TZOFFSETFROM:+0200
TZOFFSETTO:+0100
TZNAME:CET
DTSTART:20271031T010000
END:STANDARD
END:VTIMEZONE
BEGIN:VEVENT
DTSTART;TZID=Europe/Berlin:20260327T200000
DTEND;TZID=Europe/Berlin:20260328T003000
DTSTAMP:20260421T103206
CREATED:20260112T083858Z
LAST-MODIFIED:20260112T083858Z
UID:10021030-1774641600-1774657800@tango-calendar.de
SUMMARY:Milonga Morada – No. 50\, Wächtersbach
DESCRIPTION:Unsere ‘Milonga Morada’ (inkl. der Praktika ‘lección del mes’) findet seit Herbst 2021 in 63607 Wächtersbach (Hessen)\, Heegstraße 21 in den Vereinsräumen des DFFW – Dance and Fitness Friends Wächtersbach e.V. statt. Kostenfreie Parkplätze sind in ausreichender Menge direkt vor dem Gebäude vorhanden. \nUnser Tanzraum ist mit einem Parkett-Schwingboden\, einer Klimaanlage mit Frischluftzufuhr und HEPA-Filter sowie einer professionellen Musik-\, Licht- und Videoanlage ausgestattet. Gespielt werden Tandas (mit zumeist 3 Stücken) nach dem Schema “TVTTMT”\, unterbrochen durch Cortinas. Zu über 80% wird traditionelle Musik gespielt\, aber hier und da mischt sich auch eine Tanda mit Neo-Tangos (max. 2 Tandas) oder Non-Tangos (max. 1 Tanda) darunter. Abwechslung ist uns wichtig\, somit ist der “wilde Welchsel” zwischen eher rhythmischen und eher melodischen Tandas über den gesamten Abend verteilt eher Absicht als Versehen. Wir mögen mehrheitlich auch Gesang\, daher beträgt der Anteil vokaler Stücke über 80%. Junge Orchester und Sängerinnen haben ebenso einen festen Platz auf den Playlists. \nBei uns steht der Spaß und die Freude an schöner Musik\, Improvisationstanz und Geselligkeit im Vordergrund. Auch Singles finden bei uns eine(n) passende(n) Tanzpartner(in) für die eine oder andere Tanda. Ganz besonders freuen wir uns auf Neu- und Wiedereinsteiger\, die ohne Angst vor einer “Tango-Polizei” (erste) Erfahrungen sammeln wollen. Wir freuen uns auf Euch! \nWeitere Infos auf der Website der Tango-Abteilung des DFFW e.V.: www.dffw-verein.de/milonga-morada
URL:https://tango-calendar.de/event/milonga-morada-no-50-waechtersbach/
LOCATION:Heegstraße 21\, 63607 Wächtersbach\, Heegstraße 21\, Wächtersbach\, Hessen\, 63607\, Deutschland
CATEGORIES:Milonga
ATTACH;FMTTYPE=image/png:https://tango-calendar.de/wp-content/uploads/2026/01/Facebook-1080x1080-20260327-MM-deutsch.png
ORGANIZER;CN="Dance and Fitness Friends W&auml%3Bchtersbach e.V.":MAILTO:info@dffw-verein.de
GEO:50.2570987;9.2945711
X-APPLE-STRUCTURED-LOCATION;VALUE=URI;X-ADDRESS=Heegstraße 21 63607 Wächtersbach Heegstraße 21 Wächtersbach Hessen 63607 Deutschland;X-APPLE-RADIUS=500;X-TITLE=Heegstraße 21:geo:9.2945711,50.2570987
END:VEVENT
BEGIN:VEVENT
DTSTART;TZID=Europe/Berlin:20260227T200000
DTEND;TZID=Europe/Berlin:20260228T003000
DTSTAMP:20260421T103206
CREATED:20260112T083851Z
LAST-MODIFIED:20260112T083851Z
UID:10021029-1772222400-1772238600@tango-calendar.de
SUMMARY:Milonga Morada – No. 49\, Wächtersbach
DESCRIPTION:Unsere ‘Milonga Morada’ (inkl. der Praktika ‘lección del mes’) findet seit Herbst 2021 in 63607 Wächtersbach (Hessen)\, Heegstraße 21 in den Vereinsräumen des DFFW – Dance and Fitness Friends Wächtersbach e.V. statt. Kostenfreie Parkplätze sind in ausreichender Menge direkt vor dem Gebäude vorhanden. \nUnser Tanzraum ist mit einem Parkett-Schwingboden\, einer Klimaanlage mit Frischluftzufuhr und HEPA-Filter sowie einer professionellen Musik-\, Licht- und Videoanlage ausgestattet. Gespielt werden Tandas (mit zumeist 3 Stücken) nach dem Schema “TVTTMT”\, unterbrochen durch Cortinas. Zu über 80% wird traditionelle Musik gespielt\, aber hier und da mischt sich auch eine Tanda mit Neo-Tangos (max. 2 Tandas) oder Non-Tangos (max. 1 Tanda) darunter. Abwechslung ist uns wichtig\, somit ist der “wilde Welchsel” zwischen eher rhythmischen und eher melodischen Tandas über den gesamten Abend verteilt eher Absicht als Versehen. Wir mögen mehrheitlich auch Gesang\, daher beträgt der Anteil vokaler Stücke über 80%. Junge Orchester und Sängerinnen haben ebenso einen festen Platz auf den Playlists. \nBei uns steht der Spaß und die Freude an schöner Musik\, Improvisationstanz und Geselligkeit im Vordergrund. Auch Singles finden bei uns eine(n) passende(n) Tanzpartner(in) für die eine oder andere Tanda. Ganz besonders freuen wir uns auf Neu- und Wiedereinsteiger\, die ohne Angst vor einer “Tango-Polizei” (erste) Erfahrungen sammeln wollen. Wir freuen uns auf Euch! \nWeitere Infos auf der Website der Tango-Abteilung des DFFW e.V.: www.dffw-verein.de/milonga-morada
URL:https://tango-calendar.de/event/milonga-morada-no-49-waechtersbach/
LOCATION:Heegstraße 21\, 63607 Wächtersbach\, Heegstraße 21\, Wächtersbach\, Hessen\, 63607\, Deutschland
CATEGORIES:Milonga
ATTACH;FMTTYPE=image/png:https://tango-calendar.de/wp-content/uploads/2026/01/Facebook-1080x1080-20260227-MM-deutsch.png
ORGANIZER;CN="Dance and Fitness Friends W&auml%3Bchtersbach e.V.":MAILTO:info@dffw-verein.de
GEO:50.2570987;9.2945711
X-APPLE-STRUCTURED-LOCATION;VALUE=URI;X-ADDRESS=Heegstraße 21 63607 Wächtersbach Heegstraße 21 Wächtersbach Hessen 63607 Deutschland;X-APPLE-RADIUS=500;X-TITLE=Heegstraße 21:geo:9.2945711,50.2570987
END:VEVENT
BEGIN:VEVENT
DTSTART;TZID=Europe/Berlin:20260130T200000
DTEND;TZID=Europe/Berlin:20260131T003000
DTSTAMP:20260421T103206
CREATED:20260112T083845Z
LAST-MODIFIED:20260112T083845Z
UID:10021028-1769803200-1769819400@tango-calendar.de
SUMMARY:Milonga Morada – No. 48\, Wächtersbach
DESCRIPTION:Unsere ‘Milonga Morada’ (inkl. der Praktika ‘lección del mes’) findet seit Herbst 2021 in 63607 Wächtersbach (Hessen)\, Heegstraße 21 in den Vereinsräumen des DFFW – Dance and Fitness Friends Wächtersbach e.V. statt. Kostenfreie Parkplätze sind in ausreichender Menge direkt vor dem Gebäude vorhanden. \nUnser Tanzraum ist mit einem Parkett-Schwingboden\, einer Klimaanlage mit Frischluftzufuhr und HEPA-Filter sowie einer professionellen Musik-\, Licht- und Videoanlage ausgestattet. Gespielt werden Tandas (mit zumeist 3 Stücken) nach dem Schema “TVTTMT”\, unterbrochen durch Cortinas. Zu über 80% wird traditionelle Musik gespielt\, aber hier und da mischt sich auch eine Tanda mit Neo-Tangos (max. 2 Tandas) oder Non-Tangos (max. 1 Tanda) darunter. Abwechslung ist uns wichtig\, somit ist der “wilde Welchsel” zwischen eher rhythmischen und eher melodischen Tandas über den gesamten Abend verteilt eher Absicht als Versehen. Wir mögen mehrheitlich auch Gesang\, daher beträgt der Anteil vokaler Stücke über 80%. Junge Orchester und Sängerinnen haben ebenso einen festen Platz auf den Playlists. \nBei uns steht der Spaß und die Freude an schöner Musik\, Improvisationstanz und Geselligkeit im Vordergrund. Auch Singles finden bei uns eine(n) passende(n) Tanzpartner(in) für die eine oder andere Tanda. Ganz besonders freuen wir uns auf Neu- und Wiedereinsteiger\, die ohne Angst vor einer “Tango-Polizei” (erste) Erfahrungen sammeln wollen. Wir freuen uns auf Euch! \nWeitere Infos auf der Website der Tango-Abteilung des DFFW e.V.: www.dffw-verein.de/milonga-morada
URL:https://tango-calendar.de/event/milonga-morada-no-48-waechtersbach/
LOCATION:Heegstraße 21\, 63607 Wächtersbach\, Heegstraße 21\, Wächtersbach\, Hessen\, 63607\, Deutschland
CATEGORIES:Milonga
ATTACH;FMTTYPE=image/png:https://tango-calendar.de/wp-content/uploads/2026/01/Facebook-1080x1080-20260130-MM-deutsch.png
ORGANIZER;CN="Dance and Fitness Friends W&auml%3Bchtersbach e.V.":MAILTO:info@dffw-verein.de
GEO:50.2570987;9.2945711
X-APPLE-STRUCTURED-LOCATION;VALUE=URI;X-ADDRESS=Heegstraße 21 63607 Wächtersbach Heegstraße 21 Wächtersbach Hessen 63607 Deutschland;X-APPLE-RADIUS=500;X-TITLE=Heegstraße 21:geo:9.2945711,50.2570987
END:VEVENT
END:VCALENDAR