BEGIN:VCALENDAR
VERSION:2.0
PRODID:-//Tango Kalender - ECPv6.15.20//NONSGML v1.0//EN
CALSCALE:GREGORIAN
METHOD:PUBLISH
X-ORIGINAL-URL:https://tango-calendar.de
X-WR-CALDESC:Veranstaltungen für Tango Kalender
REFRESH-INTERVAL;VALUE=DURATION:PT1H
X-Robots-Tag:noindex
X-PUBLISHED-TTL:PT1H
BEGIN:VTIMEZONE
TZID:Europe/Berlin
BEGIN:DAYLIGHT
TZOFFSETFROM:+0100
TZOFFSETTO:+0200
TZNAME:CEST
DTSTART:20250330T010000
END:DAYLIGHT
BEGIN:STANDARD
TZOFFSETFROM:+0200
TZOFFSETTO:+0100
TZNAME:CET
DTSTART:20251026T010000
END:STANDARD
BEGIN:DAYLIGHT
TZOFFSETFROM:+0100
TZOFFSETTO:+0200
TZNAME:CEST
DTSTART:20260329T010000
END:DAYLIGHT
BEGIN:STANDARD
TZOFFSETFROM:+0200
TZOFFSETTO:+0100
TZNAME:CET
DTSTART:20261025T010000
END:STANDARD
BEGIN:DAYLIGHT
TZOFFSETFROM:+0100
TZOFFSETTO:+0200
TZNAME:CEST
DTSTART:20270328T010000
END:DAYLIGHT
BEGIN:STANDARD
TZOFFSETFROM:+0200
TZOFFSETTO:+0100
TZNAME:CET
DTSTART:20271031T010000
END:STANDARD
END:VTIMEZONE
BEGIN:VEVENT
DTSTART;TZID=Europe/Berlin:20260530T200000
DTEND;TZID=Europe/Berlin:20260531T010000
DTSTAMP:20260422T044631
CREATED:20260218T180112Z
LAST-MODIFIED:20260218T180112Z
UID:10021438-1780171200-1780189200@tango-calendar.de
SUMMARY:TangoBar – Especial
DESCRIPTION:Sie sind wieder da!\nLive Musik von Duo Asato & Pais\nSamstag > 30.5.2026\nFreut euch mit uns gemeinsam auf einen besonderen Abend. \n20:00 – Welcome Drink (bis 20:30) & Start Milonga\n20:30 – Live Duo „Asato & Pais“\nbis 1:00 Milonga \nEintritt inkl. Live Musik & kaltem Buffet: 25€\nBitte keine eigenen Getränke mitbringen\, wir finanzieren diese Veranstaltungen auch durch den Getränkeverkauf !
URL:https://tango-calendar.de/event/tangobar-especial/
LOCATION:die Tanzschule\, Bolongarostraße 113\, Frankfurt am Main\, Deutschland\, 65929\, Deutschland
CATEGORIES:Live Musik,Milonga,Traditional
ATTACH;FMTTYPE=image/png:https://tango-calendar.de/wp-content/uploads/2026/02/AsatoPais_fb_Titelbild-scaled.png
ORGANIZER;CN="die Tanzschule | Frankfurt H%C3%B6chst":MAILTO:info@die-tanzschule.de
GEO:50.1006357;8.5510597
X-APPLE-STRUCTURED-LOCATION;VALUE=URI;X-ADDRESS=die Tanzschule Bolongarostraße 113 Frankfurt am Main Deutschland 65929 Deutschland;X-APPLE-RADIUS=500;X-TITLE=Bolongarostraße 113:geo:8.5510597,50.1006357
END:VEVENT
END:VCALENDAR