BEGIN:VCALENDAR
VERSION:2.0
PRODID:-//Tango Kalender - ECPv6.15.20//NONSGML v1.0//EN
CALSCALE:GREGORIAN
METHOD:PUBLISH
X-WR-CALNAME:Tango Kalender
X-ORIGINAL-URL:https://tango-calendar.de
X-WR-CALDESC:Veranstaltungen für Tango Kalender
REFRESH-INTERVAL;VALUE=DURATION:PT1H
X-Robots-Tag:noindex
X-PUBLISHED-TTL:PT1H
BEGIN:VTIMEZONE
TZID:Europe/Berlin
BEGIN:DAYLIGHT
TZOFFSETFROM:+0100
TZOFFSETTO:+0200
TZNAME:CEST
DTSTART:20250330T010000
END:DAYLIGHT
BEGIN:STANDARD
TZOFFSETFROM:+0200
TZOFFSETTO:+0100
TZNAME:CET
DTSTART:20251026T010000
END:STANDARD
BEGIN:DAYLIGHT
TZOFFSETFROM:+0100
TZOFFSETTO:+0200
TZNAME:CEST
DTSTART:20260329T010000
END:DAYLIGHT
BEGIN:STANDARD
TZOFFSETFROM:+0200
TZOFFSETTO:+0100
TZNAME:CET
DTSTART:20261025T010000
END:STANDARD
BEGIN:DAYLIGHT
TZOFFSETFROM:+0100
TZOFFSETTO:+0200
TZNAME:CEST
DTSTART:20270328T010000
END:DAYLIGHT
BEGIN:STANDARD
TZOFFSETFROM:+0200
TZOFFSETTO:+0100
TZNAME:CET
DTSTART:20271031T010000
END:STANDARD
END:VTIMEZONE
BEGIN:VEVENT
DTSTART;TZID=Europe/Berlin:20260325T200000
DTEND;TZID=Europe/Berlin:20260325T235900
DTSTAMP:20260421T130202
CREATED:20240820T085534Z
LAST-MODIFIED:20260307T161502Z
UID:10011601-1774468800-1774483140@tango-calendar.de
SUMMARY:Práctica und Milonga del Opera
DESCRIPTION:Hola Tanger@s\, \nwir heißen euch herzlich willkommen bei der Milonga in der Grande Opera. \nPráctica von 20:00 bis 21:00 \nMilonga ab 21:00 \nEuch erwartet eine abwechslungsreiche Mischung aus allen Tango Epochen\, Traditionell\, Época de Oro\, Neo Tango\, Tango Nuevo und „neuem Traditionellen“. \nMilonga in einer Location von der alle wissen – also traut Euch. Dresscode von normal bis alles was gefällt\, Hauptsache ihr fühlt euch wohl. \nAusreichend Parkmöglichkeiten im Hof\, Bahnhof Offenbach 10 Minuten zu Fuß. \nHinweis: Der weiterführende Link unten führt zum Tangokurs\, welcher immer Mittwochs stattfindet. Ausnahme ist der letzte Mittwoch des Monats. Dann finden die Práctica und die Milonga statt. \nLaura\, Achim\, Robert und das Team der GO freuen uns auf euch. 🕺💃💃🕺 ⭐⭐
URL:https://tango-calendar.de/event/milonga-grande-opera/
LOCATION:Grande Opera\, Christian-Pleß-Straße 11-13\, Offenbach\, 63069\, Deutschland
CATEGORIES:Milonga
ATTACH;FMTTYPE=image/png:https://tango-calendar.de/wp-content/uploads/2024/08/2025_Milonga_del_Opera.png
GEO:50.0980846;8.7647549
X-APPLE-STRUCTURED-LOCATION;VALUE=URI;X-ADDRESS=Grande Opera Christian-Pleß-Straße 11-13 Offenbach 63069 Deutschland;X-APPLE-RADIUS=500;X-TITLE=Christian-Pleß-Straße 11-13:geo:8.7647549,50.0980846
END:VEVENT
END:VCALENDAR