BEGIN:VCALENDAR
VERSION:2.0
PRODID:-//Tango Kalender - ECPv6.15.20//NONSGML v1.0//EN
CALSCALE:GREGORIAN
METHOD:PUBLISH
X-WR-CALNAME:Tango Kalender
X-ORIGINAL-URL:https://tango-calendar.de
X-WR-CALDESC:Veranstaltungen für Tango Kalender
REFRESH-INTERVAL;VALUE=DURATION:PT1H
X-Robots-Tag:noindex
X-PUBLISHED-TTL:PT1H
BEGIN:VTIMEZONE
TZID:Europe/Berlin
BEGIN:DAYLIGHT
TZOFFSETFROM:+0100
TZOFFSETTO:+0200
TZNAME:CEST
DTSTART:20250330T010000
END:DAYLIGHT
BEGIN:STANDARD
TZOFFSETFROM:+0200
TZOFFSETTO:+0100
TZNAME:CET
DTSTART:20251026T010000
END:STANDARD
BEGIN:DAYLIGHT
TZOFFSETFROM:+0100
TZOFFSETTO:+0200
TZNAME:CEST
DTSTART:20260329T010000
END:DAYLIGHT
BEGIN:STANDARD
TZOFFSETFROM:+0200
TZOFFSETTO:+0100
TZNAME:CET
DTSTART:20261025T010000
END:STANDARD
BEGIN:DAYLIGHT
TZOFFSETFROM:+0100
TZOFFSETTO:+0200
TZNAME:CEST
DTSTART:20270328T010000
END:DAYLIGHT
BEGIN:STANDARD
TZOFFSETFROM:+0200
TZOFFSETTO:+0100
TZNAME:CET
DTSTART:20271031T010000
END:STANDARD
END:VTIMEZONE
BEGIN:VEVENT
DTSTART;TZID=Europe/Berlin:20260403T160000
DTEND;TZID=Europe/Berlin:20260403T210000
DTSTAMP:20260423T104501
CREATED:20260320T122411Z
LAST-MODIFIED:20260330T120412Z
UID:10021561-1775232000-1775250000@tango-calendar.de
SUMMARY:MiM spezial: Karfreitagsmilonga
DESCRIPTION:Karfreitag: Matthäus-Passion am Vormittag\, aber was tun mit dem Nachmittag? \nAb 16h Milonga. Dies ist eine private Veranstaltung. Falls du die Veranstalter/Location nicht kennst – kein Problem\, wir sind offen für neue Leute – gib kurz Bescheid\, wer du bist und wie deine Verbindung in die Frankfurter Szene aussieht. (karfreitag@tango-rhein-main.de). \n 
URL:https://tango-calendar.de/event/mim-spezial-karfreitagsmilonga/
CATEGORIES:Milonga,Traditional
ATTACH;FMTTYPE=image/jpeg:https://tango-calendar.de/wp-content/uploads/2026/03/IMG-20260324-WA00001.jpg
END:VEVENT
END:VCALENDAR