BEGIN:VCALENDAR
VERSION:2.0
PRODID:-//Tango Kalender - ECPv6.15.20//NONSGML v1.0//EN
CALSCALE:GREGORIAN
METHOD:PUBLISH
X-ORIGINAL-URL:https://tango-calendar.de
X-WR-CALDESC:Veranstaltungen für Tango Kalender
REFRESH-INTERVAL;VALUE=DURATION:PT1H
X-Robots-Tag:noindex
X-PUBLISHED-TTL:PT1H
BEGIN:VTIMEZONE
TZID:Europe/Berlin
BEGIN:DAYLIGHT
TZOFFSETFROM:+0100
TZOFFSETTO:+0200
TZNAME:CEST
DTSTART:20250330T010000
END:DAYLIGHT
BEGIN:STANDARD
TZOFFSETFROM:+0200
TZOFFSETTO:+0100
TZNAME:CET
DTSTART:20251026T010000
END:STANDARD
BEGIN:DAYLIGHT
TZOFFSETFROM:+0100
TZOFFSETTO:+0200
TZNAME:CEST
DTSTART:20260329T010000
END:DAYLIGHT
BEGIN:STANDARD
TZOFFSETFROM:+0200
TZOFFSETTO:+0100
TZNAME:CET
DTSTART:20261025T010000
END:STANDARD
BEGIN:DAYLIGHT
TZOFFSETFROM:+0100
TZOFFSETTO:+0200
TZNAME:CEST
DTSTART:20270328T010000
END:DAYLIGHT
BEGIN:STANDARD
TZOFFSETFROM:+0200
TZOFFSETTO:+0100
TZNAME:CET
DTSTART:20271031T010000
END:STANDARD
END:VTIMEZONE
BEGIN:VEVENT
DTSTART;TZID=Europe/Berlin:20260329T150000
DTEND;TZID=Europe/Berlin:20260329T190000
DTSTAMP:20260425T134253
CREATED:20250224T115453Z
LAST-MODIFIED:20260222T110746Z
UID:10021230-1774796400-1774810800@tango-calendar.de
SUMMARY:Milonga im 3SEIN
DESCRIPTION:Fast jeden 4. Sonntag im\nMonat findet die Milonga\nvon 15 bis 19 Uhr\nmit wechselnden DJs im 3SEIN statt. \nDie Räume des Salons 3SEIN findet Ihr\nin der Großen Bleiche 60-62\,\n55116 Mainz. \nParkplätze in der Umgebung sind\nvorhanden\, auch mit öffentlichen\nVerkehrsmitteln ist das 3SEIN\ngut zu erreichen. \nWir freuen uns auf einen unterhaltsamen\nNachmittag\, guten Austausch\nund schöne Tanzerlebnisse. \nElisabeth und Werner
URL:https://tango-calendar.de/event/milonga-im-3sein/2026-03-29/
LOCATION:Große Bleiche 60-62\, 55116 Mainz.
CATEGORIES:Milonga
ATTACH;FMTTYPE=image/png:https://tango-calendar.de/wp-content/uploads/2025/02/logo.png
ORGANIZER;CN="Tango Argentino in Mainz e. V.":MAILTO:mail@tangoverein-mainz.de
END:VEVENT
BEGIN:VEVENT
DTSTART;TZID=Europe/Berlin:20260222T150000
DTEND;TZID=Europe/Berlin:20260222T190000
DTSTAMP:20260425T134253
CREATED:20250224T115453Z
LAST-MODIFIED:20260222T110746Z
UID:10020811-1771772400-1771786800@tango-calendar.de
SUMMARY:Milonga im 3SEIN
DESCRIPTION:Fast jeden 4. Sonntag im\nMonat findet die Milonga\nvon 15 bis 19 Uhr\nmit wechselnden DJs im 3SEIN statt. \nDie Räume des Salons 3SEIN findet Ihr\nin der Großen Bleiche 60-62\,\n55116 Mainz. \nParkplätze in der Umgebung sind\nvorhanden\, auch mit öffentlichen\nVerkehrsmitteln ist das 3SEIN\ngut zu erreichen. \nWir freuen uns auf einen unterhaltsamen\nNachmittag\, guten Austausch\nund schöne Tanzerlebnisse. \nElisabeth und Werner
URL:https://tango-calendar.de/event/milonga-im-3sein/2026-02-22/
LOCATION:Große Bleiche 60-62\, 55116 Mainz.
CATEGORIES:Milonga
ATTACH;FMTTYPE=image/png:https://tango-calendar.de/wp-content/uploads/2025/02/logo.png
ORGANIZER;CN="Tango Argentino in Mainz e. V.":MAILTO:mail@tangoverein-mainz.de
END:VEVENT
BEGIN:VEVENT
DTSTART;TZID=Europe/Berlin:20260125T150000
DTEND;TZID=Europe/Berlin:20260125T190000
DTSTAMP:20260425T134253
CREATED:20250224T115453Z
LAST-MODIFIED:20260222T110746Z
UID:10020810-1769353200-1769367600@tango-calendar.de
SUMMARY:Milonga im 3SEIN
DESCRIPTION:Fast jeden 4. Sonntag im\nMonat findet die Milonga\nvon 15 bis 19 Uhr\nmit wechselnden DJs im 3SEIN statt. \nDie Räume des Salons 3SEIN findet Ihr\nin der Großen Bleiche 60-62\,\n55116 Mainz. \nParkplätze in der Umgebung sind\nvorhanden\, auch mit öffentlichen\nVerkehrsmitteln ist das 3SEIN\ngut zu erreichen. \nWir freuen uns auf einen unterhaltsamen\nNachmittag\, guten Austausch\nund schöne Tanzerlebnisse. \nElisabeth und Werner
URL:https://tango-calendar.de/event/milonga-im-3sein/2026-01-25/
LOCATION:Große Bleiche 60-62\, 55116 Mainz.
CATEGORIES:Milonga
ATTACH;FMTTYPE=image/png:https://tango-calendar.de/wp-content/uploads/2025/02/logo.png
ORGANIZER;CN="Tango Argentino in Mainz e. V.":MAILTO:mail@tangoverein-mainz.de
END:VEVENT
END:VCALENDAR